BEGIN:VCALENDAR
VERSION:2.0
PRODID:-//Maranathakerk Den Haag - ECPv6.15.13//NONSGML v1.0//EN
CALSCALE:GREGORIAN
METHOD:PUBLISH
X-ORIGINAL-URL:https://maranathakerkdenhaag.nl
X-WR-CALDESC:Evenementen voor Maranathakerk Den Haag
REFRESH-INTERVAL;VALUE=DURATION:PT1H
X-Robots-Tag:noindex
X-PUBLISHED-TTL:PT1H
BEGIN:VTIMEZONE
TZID:Europe/Amsterdam
BEGIN:DAYLIGHT
TZOFFSETFROM:+0100
TZOFFSETTO:+0200
TZNAME:CEST
DTSTART:20250330T010000
END:DAYLIGHT
BEGIN:STANDARD
TZOFFSETFROM:+0200
TZOFFSETTO:+0100
TZNAME:CET
DTSTART:20251026T010000
END:STANDARD
BEGIN:DAYLIGHT
TZOFFSETFROM:+0100
TZOFFSETTO:+0200
TZNAME:CEST
DTSTART:20260329T010000
END:DAYLIGHT
BEGIN:STANDARD
TZOFFSETFROM:+0200
TZOFFSETTO:+0100
TZNAME:CET
DTSTART:20261025T010000
END:STANDARD
BEGIN:DAYLIGHT
TZOFFSETFROM:+0100
TZOFFSETTO:+0200
TZNAME:CEST
DTSTART:20270328T010000
END:DAYLIGHT
BEGIN:STANDARD
TZOFFSETFROM:+0200
TZOFFSETTO:+0100
TZNAME:CET
DTSTART:20271031T010000
END:STANDARD
END:VTIMEZONE
BEGIN:VEVENT
DTSTART;TZID=Europe/Amsterdam:20260405T060000
DTEND;TZID=Europe/Amsterdam:20260405T071500
DTSTAMP:20260420T061921
CREATED:20260323T121040Z
LAST-MODIFIED:20260323T121040Z
UID:14617-1775368800-1775373300@maranathakerkdenhaag.nl
SUMMARY:Paaswake op vroege zondagochtend ...>
DESCRIPTION:Voorganger is ds. Mark van der Laan. Organist is Andries Bogerd. Het is vandaag Pasen. \nToelichting. In verbondenheid met de vrouwen die op de vroege Paasmorgen naar het graf gingen\, verzamelen we ons in alle vroegte (06.00 uur) rond een vuurkorf op het pleintje voor de kerk. Met dat vuur ontsteken we de nieuwe paaskaars en vervolgens een kaarsje in onze eigen hand als symbool van de opstanding van Christus als het Licht der wereld. Met dat licht in de hand gaan we de kerk binnen\, waar we worden onthaald door overweldigende muziek.\nIn de kerk vieren we vervolgens in het vervolg van de Paaswake het hart van het Bijbels getuigenis met liederen\, lezingen\, een doopgedachtenis en een avondmaalsviering. \nDe voorganger\nMark van der Laan is de predikant van de Maranathakerk. \nDe organist\nAndries Bogerd is de kerkmusicus van de Maranathakerk. Informatie: klik hier. \nKerkdiensten zijn publieke bijeenkomsten. De toegang is vrij. Aanmelding is niet nodig. \nDe dienst is desgewenst ook te volgen via internet\, direct en achteraf. Er is een geluid- en een beeldverbinding (Kerkomroep).\nVerbinding met Kerkomroep: klik hier.\nOrde van Dienst: (volgt). \nBeeld: Graflegging\, Tiepolo
URL:https://maranathakerkdenhaag.nl/event/paaswake-op-vroege-zondagochtend-2/
CATEGORIES:Overig
ATTACH;FMTTYPE=image/jpeg:https://maranathakerkdenhaag.nl/wp-content/uploads/2023/03/Tiepolo-Graflegging.jpg
END:VEVENT
BEGIN:VEVENT
DTSTART;TZID=Europe/Amsterdam:20260405T103000
DTEND;TZID=Europe/Amsterdam:20260405T113000
DTSTAMP:20260420T061921
CREATED:20260323T121804Z
LAST-MODIFIED:20260323T121928Z
UID:14620-1775385000-1775388600@maranathakerkdenhaag.nl
SUMMARY:Kerkdienst met Pasen ...>
DESCRIPTION:Voorganger is ds. Mark van der Laan. Organist is Andries Bogerd. Het is vandaag Pasen. \nDe dienst\nVanochtend is er een feestelijke en muzikale Paasdienst. Na afloop koffie/thee/limonade in de gemeentezaal. \nDe voorganger\nMark van der Laan is de predikant van de Maranathakerk. \nDe organist\nAndries Bogerd is de kerkmusicus van de Maranathakerk. Informatie: klik hier. \nDe kinderen\nVoor kinderen in de basisschoolleeftijd is er een eigen bijeenkomst\, een ‘kindernevendienst’. Voor de allerkleinsten is er oppas. \nKerkdiensten zijn publieke bijeenkomsten. De toegang is vrij. Aanmelding is niet nodig. \nDe dienst is desgewenst ook te volgen via internet\, direct en achteraf. Er is een geluid- en een beeldverbinding (Kerkomroep).\nVerbinding met Kerkomroep: klik hier.\nOrde van Dienst: (volgt) \nBeeld: De opgestane Christus\, Giovanni Tiepolo (1696-1770)
URL:https://maranathakerkdenhaag.nl/event/kerkdienst-met-pasen-2/
CATEGORIES:Overig
ATTACH;FMTTYPE=image/jpeg:https://maranathakerkdenhaag.nl/wp-content/uploads/2023/03/Tiepolo-Opstanding-e1680251149981.jpg
END:VEVENT
END:VCALENDAR