BEGIN:VCALENDAR
VERSION:2.0
PRODID:-//Maranathakerk Den Haag - ECPv6.15.13//NONSGML v1.0//EN
CALSCALE:GREGORIAN
METHOD:PUBLISH
X-WR-CALNAME:Maranathakerk Den Haag
X-ORIGINAL-URL:https://maranathakerkdenhaag.nl
X-WR-CALDESC:Evenementen voor Maranathakerk Den Haag
REFRESH-INTERVAL;VALUE=DURATION:PT1H
X-Robots-Tag:noindex
X-PUBLISHED-TTL:PT1H
BEGIN:VTIMEZONE
TZID:Europe/Amsterdam
BEGIN:DAYLIGHT
TZOFFSETFROM:+0100
TZOFFSETTO:+0200
TZNAME:CEST
DTSTART:20250330T010000
END:DAYLIGHT
BEGIN:STANDARD
TZOFFSETFROM:+0200
TZOFFSETTO:+0100
TZNAME:CET
DTSTART:20251026T010000
END:STANDARD
BEGIN:DAYLIGHT
TZOFFSETFROM:+0100
TZOFFSETTO:+0200
TZNAME:CEST
DTSTART:20260329T010000
END:DAYLIGHT
BEGIN:STANDARD
TZOFFSETFROM:+0200
TZOFFSETTO:+0100
TZNAME:CET
DTSTART:20261025T010000
END:STANDARD
BEGIN:DAYLIGHT
TZOFFSETFROM:+0100
TZOFFSETTO:+0200
TZNAME:CEST
DTSTART:20270328T010000
END:DAYLIGHT
BEGIN:STANDARD
TZOFFSETFROM:+0200
TZOFFSETTO:+0100
TZNAME:CET
DTSTART:20271031T010000
END:STANDARD
END:VTIMEZONE
BEGIN:VEVENT
DTSTART;TZID=Europe/Amsterdam:20260401T193000
DTEND;TZID=Europe/Amsterdam:20260401T200000
DTSTAMP:20260420T061806
CREATED:20260215T154501Z
LAST-MODIFIED:20260215T154501Z
UID:14487-1775071800-1775073600@maranathakerkdenhaag.nl
SUMMARY:Vespers voor Pasen op woensdagavond ...>
DESCRIPTION:Kleine avonddiensten in de weken voor Pasen \nKom je niet altijd toe aan de kerkdiensten op zondagmorgen? Denk dan eens aan de kleine\, intieme avonddiensten (vespers) in de weken voor Pasen\, op de woensdagen 25 februari\, 4\, 11\, 18\, 25 maart\, 1 april. Van 19.30 tot 20.00 uur in de Maranathakerk. \nEven tot rust komen in de ruimte van de kerk. Naar muziek luisteren\, samen een psalm bidden\, enkele liederen zingen\, een bijbelgedeelte lezen\, stil zijn. \nWelkom! Een mooie\, goede\, aandachtige veertigdagentijd tot Pasen gewenst.
URL:https://maranathakerkdenhaag.nl/event/vespers-voor-pasen-op-woensdagavond-4/
CATEGORIES:Overig
ATTACH;FMTTYPE=image/jpeg:https://maranathakerkdenhaag.nl/wp-content/uploads/2016/04/waxinelichtje-300x300.jpg
END:VEVENT
END:VCALENDAR