BEGIN:VCALENDAR
VERSION:2.0
PRODID:-//Maranathakerk Den Haag - ECPv6.15.13//NONSGML v1.0//EN
CALSCALE:GREGORIAN
METHOD:PUBLISH
X-ORIGINAL-URL:https://maranathakerkdenhaag.nl
X-WR-CALDESC:Evenementen voor Maranathakerk Den Haag
REFRESH-INTERVAL;VALUE=DURATION:PT1H
X-Robots-Tag:noindex
X-PUBLISHED-TTL:PT1H
BEGIN:VTIMEZONE
TZID:Europe/Amsterdam
BEGIN:DAYLIGHT
TZOFFSETFROM:+0100
TZOFFSETTO:+0200
TZNAME:CEST
DTSTART:20250330T010000
END:DAYLIGHT
BEGIN:STANDARD
TZOFFSETFROM:+0200
TZOFFSETTO:+0100
TZNAME:CET
DTSTART:20251026T010000
END:STANDARD
BEGIN:DAYLIGHT
TZOFFSETFROM:+0100
TZOFFSETTO:+0200
TZNAME:CEST
DTSTART:20260329T010000
END:DAYLIGHT
BEGIN:STANDARD
TZOFFSETFROM:+0200
TZOFFSETTO:+0100
TZNAME:CET
DTSTART:20261025T010000
END:STANDARD
BEGIN:DAYLIGHT
TZOFFSETFROM:+0100
TZOFFSETTO:+0200
TZNAME:CEST
DTSTART:20270328T010000
END:DAYLIGHT
BEGIN:STANDARD
TZOFFSETFROM:+0200
TZOFFSETTO:+0100
TZNAME:CET
DTSTART:20271031T010000
END:STANDARD
END:VTIMEZONE
BEGIN:VEVENT
DTSTART;TZID=Europe/Amsterdam:20260308T103000
DTEND;TZID=Europe/Amsterdam:20260308T113000
DTSTAMP:20260420T114639
CREATED:20260209T140352Z
LAST-MODIFIED:20260307T124807Z
UID:14451-1772965800-1772969400@maranathakerkdenhaag.nl
SUMMARY:Kerkdienst 8 maart ...>
DESCRIPTION:De kerkdienst\nHet is vandaag de derde zondag in de veertigdagentijd. Voorganger is ds. Adrie Sterrenburg. Organist is Andries Bogerd. Na afloop is er gelegenheid elkaar in de gemeentezaal te ontmoeten bij koffie/thee/limonade. \nDe voorganger\nAdrie Sterrenburg is emeritus predikant in Voorburg (Oude Kerk). \nDe organist\nAndries Bogerd is de kerkmusicus van de Maranathakerk. Informatie: klik hier. \nDe muziek\nIn vijf diensten in de veertigdagentijd bestaat de aanvangsmuziek uit variaties op een bekend kerklied\, steeds van een andere componist. De melodie is van Hans Leo Hassler (1564-1612)\, een Duitse componist uit de Renaissance.\nDe eerste tekst was een liefdesliedje\, ‘Mein G’müt ist mir verwirret\, das macht ein Jungfrau zart’. Later droeg de melodie het lied ‘Herzlich tut mich verlangen’. Vervolgens gebruikte Paul Gerhardt de melodie voor zijn lied ‘O Haupt voll Blut und Wunden’. Dit lied heeft bekendheid gekregen doordat Bach het heeft gebruikt in de Matthäus Passion.\nLieuwe de Jong begon de cyclus met Dietrich Buxtehude (1637-1707). Andries Bogerd speelde vorige week een bewerking van Johann Sebastian Bach (1685-1750). Vandaag speelt hij een werk van Max Reger (1873-1916). De komende zondagen volgen Johann Gottfried Müthel (1728-1788) en Johannes Brahms (1833-1897). \nDe kinderen\nVoor kinderen in de basisschoolleeftijd is er een eigen bijeenkomst\, een ‘kindernevendienst’. Voor de allerkleinsten is er oppas. \nDe toegang\nKerkdiensten zijn publieke bijeenkomsten. De toegang is vrij. Aanmelding is niet nodig.\nDe dienst is desgewenst ook te volgen via internet\, direct en achteraf. Er is een geluid- en een beeldverbinding (Kerkomroep).\nVerbinding met Kerkomroep: klik hier.\nOrde van Dienst: klik hier.
URL:https://maranathakerkdenhaag.nl/event/kerkdienst-8-maart/
CATEGORIES:Overig
ATTACH;FMTTYPE=image/jpeg:https://maranathakerkdenhaag.nl/wp-content/uploads/2024/09/Adrie-Sterrenburg-Voorburg.jpg
END:VEVENT
END:VCALENDAR