BEGIN:VCALENDAR
VERSION:2.0
PRODID:-//Maranathakerk Den Haag - ECPv6.15.13//NONSGML v1.0//EN
CALSCALE:GREGORIAN
METHOD:PUBLISH
X-ORIGINAL-URL:https://maranathakerkdenhaag.nl
X-WR-CALDESC:Evenementen voor Maranathakerk Den Haag
REFRESH-INTERVAL;VALUE=DURATION:PT1H
X-Robots-Tag:noindex
X-PUBLISHED-TTL:PT1H
BEGIN:VTIMEZONE
TZID:Europe/Amsterdam
BEGIN:DAYLIGHT
TZOFFSETFROM:+0100
TZOFFSETTO:+0200
TZNAME:CEST
DTSTART:20250330T010000
END:DAYLIGHT
BEGIN:STANDARD
TZOFFSETFROM:+0200
TZOFFSETTO:+0100
TZNAME:CET
DTSTART:20251026T010000
END:STANDARD
BEGIN:DAYLIGHT
TZOFFSETFROM:+0100
TZOFFSETTO:+0200
TZNAME:CEST
DTSTART:20260329T010000
END:DAYLIGHT
BEGIN:STANDARD
TZOFFSETFROM:+0200
TZOFFSETTO:+0100
TZNAME:CET
DTSTART:20261025T010000
END:STANDARD
BEGIN:DAYLIGHT
TZOFFSETFROM:+0100
TZOFFSETTO:+0200
TZNAME:CEST
DTSTART:20270328T010000
END:DAYLIGHT
BEGIN:STANDARD
TZOFFSETFROM:+0200
TZOFFSETTO:+0100
TZNAME:CET
DTSTART:20271031T010000
END:STANDARD
END:VTIMEZONE
BEGIN:VEVENT
DTSTART;TZID=Europe/Amsterdam:20260222T103000
DTEND;TZID=Europe/Amsterdam:20260222T113000
DTSTAMP:20260420T130129
CREATED:20260209T135243Z
LAST-MODIFIED:20260220T131705Z
UID:14442-1771756200-1771759800@maranathakerkdenhaag.nl
SUMMARY:Kerkdienst 22 februari ...>
DESCRIPTION:De kerkdienst\nVoorganger is ds. Mark van der Laan (foto). Organist is Lieuwe de Jong. Vandaag is het de eerste zondag in de veertigdagentijd\, de voorbereidingsperiode voor Pasen. Medewerking verleent het barokensemble Musica Poëtica onder leiding van Jörn Boysen. Na afloop is er gelegenheid elkaar in de gemeentezaal te ontmoeten bij koffie/thee/limonade. \nDe voorganger\nMark van der Laan is de predikant van de Maranathakerk. \nDe organist\nLieuwe de Jong is toonkunstenaar te Den Haag. \nDe aanvangsmuziek\nDe komende weken zal de aanvangsmuziek bestaan uit variaties op een bekend kerklied\, steeds van een andere componist. De melodie is van Hans Leo Hassler (1564-1612)\, een Duitse componist uit de Renaissance. De eerste tekst was een liefdesliedje\, ‘Mein G’müt ist mir verwirret\, das macht ein Jungfrau zart’. Later droeg de melodie het lied ‘Herzlich tut mich verlangen’. Vervolgens gebruikte Paul Gerhardt de melodie voor zijn lied ‘O Haupt voll Blut und Wunden’. Dit lied heeft bekendheid gekregen doordat Bach het heeft gebruikt in de Matthäus Passion.\nLieuwe de Jong begint de cyclus vandaag met Dietrich Buxtehude (1637-1707). Andries Bogerd speelt vanaf volgende week bewerkingen van Johann Sebastian Bach (1685-1750)\, Johann Gottfried Müthel (1728-1788)\, Max Reger (1873-1916) en Johannes Brahms (1833-1897). \nMusica Poetica\nHet Haags barokensemble Musica Poetica verleent vijf maal per jaar medewerking aan een kerkdienst. Soms met een instrumentaal stuk\, zoals vandaag\, soms met een stuk met zangstemmen (cantate). Voor informatie: klik hier. \nDe kinderen\nVoor kinderen in de basisschoolleeftijd is er een eigen bijeenkomst\, een ‘kindernevendienst’. Voor de allerkleinsten is er oppas. \nDe toegang\nKerkdiensten zijn publieke bijeenkomsten. De toegang is vrij. Aanmelding is niet nodig.\nDe dienst is desgewenst ook te volgen via internet\, direct en achteraf. Er is een geluid- en een beeldverbinding (Kerkomroep).\nVerbinding met Kerkomroep: klik hier.\nOrde van Dienst: klik hier.
URL:https://maranathakerkdenhaag.nl/event/kerkdienst-22-februari/
CATEGORIES:Overig
ATTACH;FMTTYPE=image/jpeg:https://maranathakerkdenhaag.nl/wp-content/uploads/2023/03/Mark-van-der-Laan-maart-2023-1.jpg
END:VEVENT
END:VCALENDAR