BEGIN:VCALENDAR
VERSION:2.0
PRODID:-//Maranathakerk Den Haag - ECPv6.15.13//NONSGML v1.0//EN
CALSCALE:GREGORIAN
METHOD:PUBLISH
X-ORIGINAL-URL:https://maranathakerkdenhaag.nl
X-WR-CALDESC:Evenementen voor Maranathakerk Den Haag
REFRESH-INTERVAL;VALUE=DURATION:PT1H
X-Robots-Tag:noindex
X-PUBLISHED-TTL:PT1H
BEGIN:VTIMEZONE
TZID:Europe/Amsterdam
BEGIN:DAYLIGHT
TZOFFSETFROM:+0100
TZOFFSETTO:+0200
TZNAME:CEST
DTSTART:20240331T010000
END:DAYLIGHT
BEGIN:STANDARD
TZOFFSETFROM:+0200
TZOFFSETTO:+0100
TZNAME:CET
DTSTART:20241027T010000
END:STANDARD
BEGIN:DAYLIGHT
TZOFFSETFROM:+0100
TZOFFSETTO:+0200
TZNAME:CEST
DTSTART:20250330T010000
END:DAYLIGHT
BEGIN:STANDARD
TZOFFSETFROM:+0200
TZOFFSETTO:+0100
TZNAME:CET
DTSTART:20251026T010000
END:STANDARD
BEGIN:DAYLIGHT
TZOFFSETFROM:+0100
TZOFFSETTO:+0200
TZNAME:CEST
DTSTART:20260329T010000
END:DAYLIGHT
BEGIN:STANDARD
TZOFFSETFROM:+0200
TZOFFSETTO:+0100
TZNAME:CET
DTSTART:20261025T010000
END:STANDARD
END:VTIMEZONE
BEGIN:VEVENT
DTSTART;TZID=Europe/Amsterdam:20251105T200000
DTEND;TZID=Europe/Amsterdam:20251105T220000
DTSTAMP:20260420T165244
CREATED:20251031T093425Z
LAST-MODIFIED:20251031T093425Z
UID:14238-1762372800-1762380000@maranathakerkdenhaag.nl
SUMMARY:Avond over biodiversiteit in Den Haag ...>
DESCRIPTION:Hoe staat het met de biodiversiteit in Den Haag? Wat kunnen wij als burgers doen om biodiversiteit te bevorderen? En hoe stimuleert het gemeentebestuur de biodiversiteit?\nDeze vragen staan centraal op een informatie- en discussieavond op woensdagavond 5 november. \n* De Haagse stadsecoloog Marcus Bouma geeft zijn visie op het grote belang van biodiversiteit in de stad.\n* Brian Eisenburger van Duurzaam Duinoord vertelt wat de burger kan bijdragen aan het bevorderen van biodiversiteit.\n* Erwin de Jong\, oprichter en mede-eigenaar van Tuinderij WIJdehorst\, laat zien hoe op een voormalige kwekerij het rijke bodemleven in korte tijd terugkeert wanneer het roer duurzaam wordt omgegooid.\nDe inleiders gaan ook met bezoekers in discussie. Verder is er een milieumarkt met organisaties die laten zien hoe je biodiversiteit in de stad kunt bevorderen. \nDatum: woensdag 5 november\, 20-22 uur.\nLocatie: Maranathakerk\, 2e Sweelinckstraat 156\, Den Haag.\nToegang vrij\, bijdrage in de kosten welkom.\nOrganisatie: werkgroepen Groene Dominicus en Groene Maranathakerk.\nAanmelding via groenekerk@maranathakerkdenhaag.nl o.v.v. ‘Biodiversiteit’ \n  \nBeeld: Hans Versfelt\, Frederik Hendrikplein\, olieverf 35 x 45 cm.
URL:https://maranathakerkdenhaag.nl/event/avond-over-biodiversiteit-in-den-haag/
CATEGORIES:Overig
ATTACH;FMTTYPE=image/jpeg:https://maranathakerkdenhaag.nl/wp-content/uploads/2025/10/HANS-VERSFELT-Frederik-Hendrikplein-olieverf-35-x-45-cm.-kopie.jpg
END:VEVENT
END:VCALENDAR