BEGIN:VCALENDAR
VERSION:2.0
PRODID:-//Maranathakerk Den Haag - ECPv6.15.13//NONSGML v1.0//EN
CALSCALE:GREGORIAN
METHOD:PUBLISH
X-WR-CALNAME:Maranathakerk Den Haag
X-ORIGINAL-URL:https://maranathakerkdenhaag.nl
X-WR-CALDESC:Evenementen voor Maranathakerk Den Haag
REFRESH-INTERVAL;VALUE=DURATION:PT1H
X-Robots-Tag:noindex
X-PUBLISHED-TTL:PT1H
BEGIN:VTIMEZONE
TZID:Europe/Amsterdam
BEGIN:DAYLIGHT
TZOFFSETFROM:+0100
TZOFFSETTO:+0200
TZNAME:CEST
DTSTART:20240331T010000
END:DAYLIGHT
BEGIN:STANDARD
TZOFFSETFROM:+0200
TZOFFSETTO:+0100
TZNAME:CET
DTSTART:20241027T010000
END:STANDARD
BEGIN:DAYLIGHT
TZOFFSETFROM:+0100
TZOFFSETTO:+0200
TZNAME:CEST
DTSTART:20250330T010000
END:DAYLIGHT
BEGIN:STANDARD
TZOFFSETFROM:+0200
TZOFFSETTO:+0100
TZNAME:CET
DTSTART:20251026T010000
END:STANDARD
BEGIN:DAYLIGHT
TZOFFSETFROM:+0100
TZOFFSETTO:+0200
TZNAME:CEST
DTSTART:20260329T010000
END:DAYLIGHT
BEGIN:STANDARD
TZOFFSETFROM:+0200
TZOFFSETTO:+0100
TZNAME:CET
DTSTART:20261025T010000
END:STANDARD
END:VTIMEZONE
BEGIN:VEVENT
DTSTART;TZID=Europe/Amsterdam:20251012T103000
DTEND;TZID=Europe/Amsterdam:20251012T113000
DTSTAMP:20260420T180624
CREATED:20250811T131519Z
LAST-MODIFIED:20251011T112510Z
UID:14071-1760265000-1760268600@maranathakerkdenhaag.nl
SUMMARY:Kerkdienst 12 oktober ...>
DESCRIPTION:De kerkdienst\nVoorganger is dr. Mirjam Elbers (foto). Organist is Andries Bogerd. Na afloop is er gelegenheid elkaar in de gemeentezaal te ontmoeten bij koffie/thee/limonade. \nDe voorganger\nMirjam Elbers is theoloog en uitgever. Ze is vorig jaar gepromoveerd op een onderzoek naar ‘Het antireligieus getuigenis van de Bijbel als zelfkritiek. K.H. Miskotte in gesprek met Jan Assmann.’ Ze woont in Den Haag. \nDe organist\nAndries Bogerd is de kerkmusicus van de Maranathakerk. Informatie: klik hier. \nDe kinderen\nVoor kinderen in de basisschoolleeftijd is er een eigen bijeenkomst\, een ‘kindernevendienst’. Voor de allerkleinsten is er oppas. \nDe toegang\nKerkdiensten zijn publieke bijeenkomsten. De toegang is vrij. Aanmelding is niet nodig.\nDe dienst is desgewenst ook te volgen via internet\, direct en achteraf. Er is een geluid- en een beeldverbinding (Kerkomroep).\nVerbinding met Kerkomroep: klik hier.\nOrde van Dienst: klik hier.
URL:https://maranathakerkdenhaag.nl/event/kerkdienst-12-oktober/
CATEGORIES:Overig
ATTACH;FMTTYPE=image/jpeg:https://maranathakerkdenhaag.nl/wp-content/uploads/2021/08/Mirjam-Elbers-by-Michiel-Goudswaard-600kb-scaled.jpg
END:VEVENT
END:VCALENDAR