BEGIN:VCALENDAR
VERSION:2.0
PRODID:-//Maranathakerk Den Haag - ECPv6.15.13//NONSGML v1.0//EN
CALSCALE:GREGORIAN
METHOD:PUBLISH
X-ORIGINAL-URL:https://maranathakerkdenhaag.nl
X-WR-CALDESC:Evenementen voor Maranathakerk Den Haag
REFRESH-INTERVAL;VALUE=DURATION:PT1H
X-Robots-Tag:noindex
X-PUBLISHED-TTL:PT1H
BEGIN:VTIMEZONE
TZID:Europe/Amsterdam
BEGIN:DAYLIGHT
TZOFFSETFROM:+0100
TZOFFSETTO:+0200
TZNAME:CEST
DTSTART:20230326T010000
END:DAYLIGHT
BEGIN:STANDARD
TZOFFSETFROM:+0200
TZOFFSETTO:+0100
TZNAME:CET
DTSTART:20231029T010000
END:STANDARD
BEGIN:DAYLIGHT
TZOFFSETFROM:+0100
TZOFFSETTO:+0200
TZNAME:CEST
DTSTART:20240331T010000
END:DAYLIGHT
BEGIN:STANDARD
TZOFFSETFROM:+0200
TZOFFSETTO:+0100
TZNAME:CET
DTSTART:20241027T010000
END:STANDARD
BEGIN:DAYLIGHT
TZOFFSETFROM:+0100
TZOFFSETTO:+0200
TZNAME:CEST
DTSTART:20250330T010000
END:DAYLIGHT
BEGIN:STANDARD
TZOFFSETFROM:+0200
TZOFFSETTO:+0100
TZNAME:CET
DTSTART:20251026T010000
END:STANDARD
END:VTIMEZONE
BEGIN:VEVENT
DTSTART;TZID=Europe/Amsterdam:20240228T190000
DTEND;TZID=Europe/Amsterdam:20240228T193000
DTSTAMP:20260422T030347
CREATED:20240228T074515Z
LAST-MODIFIED:20240228T074515Z
UID:12742-1709146800-1709148600@maranathakerkdenhaag.nl
SUMMARY:Vespers op woensdag ...>
DESCRIPTION:Vespers in de weken voor Pasen  \nOp woensdag 28 februari en op alle woensdagen in maart zijn er weer vespers. Een meditatief half uurtje om tot rust te komen\, muziek te luisteren\, te bidden en een lied te zingen. Als voorbereiding op het Paasfeest. Bent u er nog nooit bij geweest? Goed om het eens mee te maken!\nLet op: de vespers zijn dit jaar een half uur vervroegd. Ze zijn van 19.00 tot 19.30 uur.
URL:https://maranathakerkdenhaag.nl/event/vespers-op-woensdag-5/
CATEGORIES:Overig
ATTACH;FMTTYPE=image/jpeg:https://maranathakerkdenhaag.nl/wp-content/uploads/2016/04/waxinelichtje-300x300.jpg
END:VEVENT
END:VCALENDAR