BEGIN:VCALENDAR
VERSION:2.0
PRODID:-//Maranathakerk Den Haag - ECPv6.15.13//NONSGML v1.0//EN
CALSCALE:GREGORIAN
METHOD:PUBLISH
X-WR-CALNAME:Maranathakerk Den Haag
X-ORIGINAL-URL:https://maranathakerkdenhaag.nl
X-WR-CALDESC:Evenementen voor Maranathakerk Den Haag
REFRESH-INTERVAL;VALUE=DURATION:PT1H
X-Robots-Tag:noindex
X-PUBLISHED-TTL:PT1H
BEGIN:VTIMEZONE
TZID:Europe/Amsterdam
BEGIN:DAYLIGHT
TZOFFSETFROM:+0100
TZOFFSETTO:+0200
TZNAME:CEST
DTSTART:20250330T010000
END:DAYLIGHT
BEGIN:STANDARD
TZOFFSETFROM:+0200
TZOFFSETTO:+0100
TZNAME:CET
DTSTART:20251026T010000
END:STANDARD
BEGIN:DAYLIGHT
TZOFFSETFROM:+0100
TZOFFSETTO:+0200
TZNAME:CEST
DTSTART:20260329T010000
END:DAYLIGHT
BEGIN:STANDARD
TZOFFSETFROM:+0200
TZOFFSETTO:+0100
TZNAME:CET
DTSTART:20261025T010000
END:STANDARD
BEGIN:DAYLIGHT
TZOFFSETFROM:+0100
TZOFFSETTO:+0200
TZNAME:CEST
DTSTART:20270328T010000
END:DAYLIGHT
BEGIN:STANDARD
TZOFFSETFROM:+0200
TZOFFSETTO:+0100
TZNAME:CET
DTSTART:20271031T010000
END:STANDARD
END:VTIMEZONE
BEGIN:VEVENT
DTSTART;TZID=Europe/Amsterdam:20260104T103000
DTEND;TZID=Europe/Amsterdam:20260104T113000
DTSTAMP:20260420T125956
CREATED:20251205T163828Z
LAST-MODIFIED:20251225T173218Z
UID:14332-1767522600-1767526200@maranathakerkdenhaag.nl
SUMMARY:Kerkdienst 4 januari ...>
DESCRIPTION:De kerkdienst\nHet is vandaag de eerste zondag in 2026. Voorganger is ds. David Schiethart (foto). Organist is Andries Bogerd. Na afloop is er gelegenheid elkaar in de gemeentezaal een gelukkig nieuw jaar te wensen bij een drankje. \nDe voorganger\nDavid Schiethart is studentenpredikant in Delft. Daarvoor was hij gemeentepredikant\, onder andere in Den Haag-zuidwest. \nDe organist\nAndries Bogerd is de kerkmusicus van de Maranathakerk. Informatie: klik hier. \nDe kinderen\nVoor kinderen in de basisschoolleeftijd is er een eigen bijeenkomst\, een ‘kindernevendienst’. Voor de allerkleinsten is er oppas. \nDe toegang\nKerkdiensten zijn publieke bijeenkomsten. De toegang is vrij. Aanmelding is niet nodig.\nDe dienst is desgewenst ook te volgen via internet\, direct en achteraf. Er is een geluid- en een beeldverbinding (Kerkomroep).\nVerbinding met Kerkomroep: klik hier.\nOrde van Dienst: klik hier.
URL:https://maranathakerkdenhaag.nl/event/kerkdienst-4-januari/
CATEGORIES:Overig
ATTACH;FMTTYPE=image/jpeg:https://maranathakerkdenhaag.nl/wp-content/uploads/2021/09/David-Schiethart-1-scaled-e1634374543904.jpg
END:VEVENT
BEGIN:VEVENT
DTSTART;TZID=Europe/Amsterdam:20260111T103000
DTEND;TZID=Europe/Amsterdam:20260111T113000
DTSTAMP:20260420T125956
CREATED:20251205T164241Z
LAST-MODIFIED:20251225T173645Z
UID:14335-1768127400-1768131000@maranathakerkdenhaag.nl
SUMMARY:Kerkdienst 11 januari ...>
DESCRIPTION:De kerkdienst\nHet is vandaag de eerste zondag na Epifanie. Voorganger is ds. Mark van der Laan (foto). Organist is Andries Bogerd. Na afloop is er gelegenheid elkaar in de gemeentezaal te ontmoeten bij koffie/thee/limonade. \nDe voorganger\nMark van der Laan is de predikant van de Maranathakerk. \nDe organist\nAndries Bogerd is de kerkmusicus van de Maranathakerk. Informatie: klik hier. \nDe kinderen\nVoor kinderen in de basisschoolleeftijd is er een eigen bijeenkomst\, een ‘kindernevendienst’. Voor de allerkleinsten is er oppas. \nDe toegang\nKerkdiensten zijn publieke bijeenkomsten. De toegang is vrij. Aanmelding is niet nodig.\nDe dienst is desgewenst ook te volgen via internet\, direct en achteraf. Er is een geluid- en een beeldverbinding (Kerkomroep).\nVerbinding met Kerkomroep: klik hier.\nOrde van Dienst: klik hier.
URL:https://maranathakerkdenhaag.nl/event/kerkdienst-11-januari/
CATEGORIES:Overig
ATTACH;FMTTYPE=image/jpeg:https://maranathakerkdenhaag.nl/wp-content/uploads/2023/03/Mark-van-der-Laan-maart-2023-1.jpg
END:VEVENT
BEGIN:VEVENT
DTSTART;TZID=Europe/Amsterdam:20260118T103000
DTEND;TZID=Europe/Amsterdam:20260118T113000
DTSTAMP:20260420T125956
CREATED:20251205T164919Z
LAST-MODIFIED:20251225T174250Z
UID:14338-1768732200-1768735800@maranathakerkdenhaag.nl
SUMMARY:Kerkdienst 18 januari ...>
DESCRIPTION:De kerkdienst\nHet is vandaag de tweede zondag na Epifanie. Voorganger is ds. Rob van Essen (foto). Organist is Andries Bogerd. Na afloop is er gelegenheid elkaar in de gemeentezaal te ontmoeten bij koffie/thee/limonade. \nDe voorganger\nRob van Essen is emeritus predikant. Hij heeft gewerkt in Amsterdam\, Utrecht en  Den Haag-Loosduinen (Bethelkerk). Verder is hij redacteur en columnist van het maandblad Kerk in Den Haag. Hij woont in Delft. \nDe organist\nAndries Bogerd is de kerkmusicus van de Maranathakerk. Informatie: klik hier. \nDe kinderen\nVoor kinderen in de basisschoolleeftijd is er een eigen bijeenkomst\, een ‘kindernevendienst’. Voor de allerkleinsten is er oppas. \nDe toegang\nKerkdiensten zijn publieke bijeenkomsten. De toegang is vrij. Aanmelding is niet nodig.\nDe dienst is desgewenst ook te volgen via internet\, direct en achteraf. Er is een geluid- en een beeldverbinding (Kerkomroep).\nVerbinding met Kerkomroep: klik hier.\nOrde van Dienst: klik hier.
URL:https://maranathakerkdenhaag.nl/event/kerkdienst-18-januari/
CATEGORIES:Overig
ATTACH;FMTTYPE=image/jpeg:https://maranathakerkdenhaag.nl/wp-content/uploads/2021/07/Rob-van-Essen-1-e1626683929913.jpg
END:VEVENT
BEGIN:VEVENT
DTSTART;TZID=Europe/Amsterdam:20260125T103000
DTEND;TZID=Europe/Amsterdam:20260125T113000
DTSTAMP:20260420T125956
CREATED:20251205T165333Z
LAST-MODIFIED:20251225T174635Z
UID:14341-1769337000-1769340600@maranathakerkdenhaag.nl
SUMMARY:Kerkdienst 25 januari ...>
DESCRIPTION:De kerkdienst\nHet is vandaag de derde zondag na Epifanie. Voorganger is ds. Renske Oldenboom (foto). Organist is Andries Bogerd. Na afloop is er gelegenheid elkaar in de gemeentezaal te ontmoeten bij koffie/thee/limonade. \nDe voorganger\nRenske Oldenboom is studentenpredikant in Delft. \nDe organist\nAndries Bogerd is de kerkmusicus van de Maranathakerk. Informatie: klik hier. \nDe kinderen\nVoor kinderen in de basisschoolleeftijd is er een eigen bijeenkomst\, een ‘kindernevendienst’. Voor de allerkleinsten is er oppas. \nDe toegang\nKerkdiensten zijn publieke bijeenkomsten. De toegang is vrij. Aanmelding is niet nodig.\nDe dienst is desgewenst ook te volgen via internet\, direct en achteraf. Er is een geluid- en een beeldverbinding (Kerkomroep).\nVerbinding met Kerkomroep: klik hier.\nOrde van Dienst: klik hier.
URL:https://maranathakerkdenhaag.nl/event/kerkdienst-25-januari/
CATEGORIES:Overig
ATTACH;FMTTYPE=image/jpeg:https://maranathakerkdenhaag.nl/wp-content/uploads/2022/09/Renske-Oldenboom-e1677844390279.jpg
END:VEVENT
END:VCALENDAR