BEGIN:VCALENDAR
VERSION:2.0
PRODID:-//Maranathakerk Den Haag - ECPv6.15.13//NONSGML v1.0//EN
CALSCALE:GREGORIAN
METHOD:PUBLISH
X-ORIGINAL-URL:https://maranathakerkdenhaag.nl
X-WR-CALDESC:Evenementen voor Maranathakerk Den Haag
REFRESH-INTERVAL;VALUE=DURATION:PT1H
X-Robots-Tag:noindex
X-PUBLISHED-TTL:PT1H
BEGIN:VTIMEZONE
TZID:Europe/Amsterdam
BEGIN:DAYLIGHT
TZOFFSETFROM:+0100
TZOFFSETTO:+0200
TZNAME:CEST
DTSTART:20240331T010000
END:DAYLIGHT
BEGIN:STANDARD
TZOFFSETFROM:+0200
TZOFFSETTO:+0100
TZNAME:CET
DTSTART:20241027T010000
END:STANDARD
BEGIN:DAYLIGHT
TZOFFSETFROM:+0100
TZOFFSETTO:+0200
TZNAME:CEST
DTSTART:20250330T010000
END:DAYLIGHT
BEGIN:STANDARD
TZOFFSETFROM:+0200
TZOFFSETTO:+0100
TZNAME:CET
DTSTART:20251026T010000
END:STANDARD
BEGIN:DAYLIGHT
TZOFFSETFROM:+0100
TZOFFSETTO:+0200
TZNAME:CEST
DTSTART:20260329T010000
END:DAYLIGHT
BEGIN:STANDARD
TZOFFSETFROM:+0200
TZOFFSETTO:+0100
TZNAME:CET
DTSTART:20261025T010000
END:STANDARD
END:VTIMEZONE
BEGIN:VEVENT
DTSTART;TZID=Europe/Amsterdam:20250906T110000
DTEND;TZID=Europe/Amsterdam:20250906T150000
DTSTAMP:20260420T180615
CREATED:20250811T135412Z
LAST-MODIFIED:20250903T075307Z
UID:14080-1757156400-1757170800@maranathakerkdenhaag.nl
SUMMARY:Grote en gezellige bazaar\, ook op zaterdag ...>
DESCRIPTION:Vanochtend om 11.00 uur begint de tweede dag van de grote najaarsbazaar van de Maranathakerk. Einde: 15.00 uur.\nEr is van alles te koop: goede kleding voor kinderen\, vrouwen en mannen\, speelgoed\, veel boeken (kunst\, historie\, literatuur\, politiek\, wetenschap\, spiritualiteit\, godsdienst\, culinair\, kinderboeken\, reisboeken etc.). Verder designartikelen uit bekende stijlperioden\, brocante & antiek\, schilderijen\, serviesgoed en klein huisraad.\nOok is de bar geopend voor vis\, soep\, broodjes\, en koffie met taart. En voor de liefhebbers: heerlijke kipsaté bereid volgens oud Indisch recept.\nVraag: neemt u zelf een tas mee en contant geld om te betalen?\nDe toegang tot de bazaar is vrij.
URL:https://maranathakerkdenhaag.nl/event/grote-en-gezellige-bazaar-ook-vandaag-geopend/
CATEGORIES:Overig
ATTACH;FMTTYPE=image/jpeg:https://maranathakerkdenhaag.nl/wp-content/uploads/2016/04/bazaar-maranathakerk-denhaag.jpg
END:VEVENT
BEGIN:VEVENT
DTSTART;TZID=Europe/Amsterdam:20250907T103000
DTEND;TZID=Europe/Amsterdam:20250907T113000
DTSTAMP:20260420T180615
CREATED:20250421T162927Z
LAST-MODIFIED:20250905T123947Z
UID:13850-1757241000-1757244600@maranathakerkdenhaag.nl
SUMMARY:Kerkdienst 7 september ...>
DESCRIPTION:De eredienst\nVoorganger is dr. Robert Jan Bakker te Amsterdam. Organist is Andries Bogerd. Medewerking verleent de violiste Clara Sawada\, begeleid door organist Jörn Boysen. \nDe voorganger\nRobert Jan Bakker (foto) is emeritus hervormd predikant. Zijn hele loopbaan heeft hij gewerkt in Amsterdam-West. Hij is in Leiden gepromoveerd op een onderzoek naar sociaal-economische argumenten tegen de Zuid-Afrikaanse apartheidspolitiek. Hij was verder lid van de theologische deelredactie van het oecumenisch opinieweekblad Hervormd Nederland. Ook kerkelijk bestuurswerk is hem niet vreemd. Hij was voorzitter van de classis\, een regionaal orgaan van de kerk\, en voorzitter van het Protestantse Werkverband van Hom0theologen. \nDe muziek\nAndries Bogerd is de kerkmusicus van de Maranathakerk. Informatie: klik hier.\nVioliste Clara Sawada\, begeleid door organist Jörn Boysen\, voert Sonate IV uit van Johann Heinrich Schmelzer (ca 1620-1680). \nDe kinderen\nVoor kinderen in de basisschoolleeftijd is er een eigen bijeenkomst\, een ‘kindernevendienst’. Voor de allerkleinsten is er oppas. \nDe toegang\nKerkdiensten zijn publieke bijeenkomsten. De toegang is vrij. Aanmelding is niet nodig. \nDe dienst is desgewenst ook te volgen via internet\, direct en achteraf. Er is een geluid- en een beeldverbinding (Kerkomroep).\nVerbinding met Kerkomroep: klik hier.\nOrde van Dienst: klik hier.
URL:https://maranathakerkdenhaag.nl/event/kerkdienst-7-september/
CATEGORIES:Overig
ATTACH;FMTTYPE=image/jpeg:https://maranathakerkdenhaag.nl/wp-content/uploads/2021/09/Robert-Jan-Bakker-1.jpg
END:VEVENT
BEGIN:VEVENT
DTSTART;TZID=Europe/Amsterdam:20250914T103000
DTEND;TZID=Europe/Amsterdam:20250914T113000
DTSTAMP:20260420T180615
CREATED:20250811T124945Z
LAST-MODIFIED:20250909T084127Z
UID:14052-1757845800-1757849400@maranathakerkdenhaag.nl
SUMMARY:Kerkdienst 14 september ...>
DESCRIPTION:De kerkdienst\nVoorganger is ds. Mark van der Laan. Organist is Andries Bogerd. Het is een dienst van Schrift en Tafel. Na afloop is er gelegenheid elkaar in de gemeentezaal te ontmoeten bij koffie/thee/limonade. \nDe voorganger\nMark van der Laan (foto) is de predikant van de Maranathakerk. \nDe organist\nAndries Bogerd is de kerkmusicus van de Maranathakerk. Informatie: klik hier. \nDe kinderen\nVoor kinderen in de basisschoolleeftijd is er doorgaans een eigen bijeenkomst\, een ‘kindernevendienst’. Voor de allerkleinsten is er oppas. \nDe toegang\nKerkdiensten zijn publieke bijeenkomsten. De toegang is vrij. Aanmelding is niet nodig.\nDe dienst is desgewenst ook te volgen via internet\, direct en achteraf. Er is een geluid- en een beeldverbinding (Kerkomroep).\nVerbinding met Kerkomroep: klik hier.\nOrde van Dienst: klik hier.
URL:https://maranathakerkdenhaag.nl/event/kerkdienst-14-september/
CATEGORIES:Overig
ATTACH;FMTTYPE=image/jpeg:https://maranathakerkdenhaag.nl/wp-content/uploads/2023/03/Mark-van-der-Laan-maart-2023-1.jpg
END:VEVENT
BEGIN:VEVENT
DTSTART;TZID=Europe/Amsterdam:20250921T103000
DTEND;TZID=Europe/Amsterdam:20250921T113000
DTSTAMP:20260420T180615
CREATED:20250811T130439Z
LAST-MODIFIED:20250919T101447Z
UID:14065-1758450600-1758454200@maranathakerkdenhaag.nl
SUMMARY:Kerkdienst 21 september ...>
DESCRIPTION:De kerkdienst\nVoorganger is ds. Adrie Sterrenburg. Organist is Andries Bogerd. Vandaag begint de Vredesweeek\, een jaarlijkse interkerkelijke themaweek. Na afloop is er gelegenheid elkaar in de gemeentezaal te ontmoeten bij koffie/thee/limonade. \nDe voorganger\nAdrie Sterrenburg is emeritus predikant in Voorburg (Oude Kerk). \nDe organist\nAndries Bogerd is de kerkmusicus van de Maranathakerk. Informatie: klik hier. \nDe kinderen\nVoor kinderen in de basisschoolleeftijd is er een eigen bijeenkomst\, een ‘kindernevendienst’. Voor de allerkleinsten is er oppas. \nDe toegang\nKerkdiensten zijn publieke bijeenkomsten. De toegang is vrij. Aanmelding is niet nodig.\nDe dienst is desgewenst ook te volgen via internet\, direct en achteraf. Er is een geluid- en een beeldverbinding (Kerkomroep).\nVerbinding met Kerkomroep: klik hier.\nOrde van Dienst: klik hier.
URL:https://maranathakerkdenhaag.nl/event/kerkdienst-21-september/
CATEGORIES:Overig
ATTACH;FMTTYPE=image/jpeg:https://maranathakerkdenhaag.nl/wp-content/uploads/2024/09/Adrie-Sterrenburg-Voorburg.jpg
END:VEVENT
BEGIN:VEVENT
DTSTART;TZID=Europe/Amsterdam:20250928T103000
DTEND;TZID=Europe/Amsterdam:20250928T113000
DTSTAMP:20260420T180615
CREATED:20250811T130914Z
LAST-MODIFIED:20250927T080748Z
UID:14068-1759055400-1759059000@maranathakerkdenhaag.nl
SUMMARY:Kerkdienst 28 september ...>
DESCRIPTION:De kerkdienst\nVoorganger is ds. Erika van Gemerden. Organist is Andries Bogerd. Na afloop is er gelegenheid elkaar in de gemeentezaal te ontmoeten bij koffie/thee/limonade. \nDe voorganger\nErika van Gemerden (foto) is theoloog en psycholoog. Ze heeft theologie gestudeerd in Utrecht en psychologie in Leiden. Ze is gemeentepredikant geweest in Hellendoorn. Verder is ze duo-voorzitter geweest van de kerkenraad van de Maranathakerk en scriba van de Protestantse Gemeente te ‘s-Gravenhage. \nDe organist\nAndries Bogerd is de kerkmusicus van de Maranathakerk. Informatie: klik hier. \nDe kinderen\nVoor kinderen in de basisschoolleeftijd is er een eigen bijeenkomst\, een ‘kindernevendienst’. Voor de allerkleinsten is er oppas. \nDe toegang\nKerkdiensten zijn publieke bijeenkomsten. De toegang is vrij. Aanmelding is niet nodig.\nDe dienst is desgewenst ook te volgen via internet\, direct en achteraf. Er is een geluid- en een beeldverbinding (Kerkomroep).\nVerbinding met Kerkomroep: klik hier.\nOrde van Dienst: klik hier.
URL:https://maranathakerkdenhaag.nl/event/kerkdienst-28-september/
CATEGORIES:Overig
ATTACH;FMTTYPE=image/png:https://maranathakerkdenhaag.nl/wp-content/uploads/2021/08/Erika-van-Gemerden.png
END:VEVENT
END:VCALENDAR