BEGIN:VCALENDAR
VERSION:2.0
PRODID:-//Maranathakerk Den Haag - ECPv6.15.13//NONSGML v1.0//EN
CALSCALE:GREGORIAN
METHOD:PUBLISH
X-ORIGINAL-URL:https://maranathakerkdenhaag.nl
X-WR-CALDESC:Evenementen voor Maranathakerk Den Haag
REFRESH-INTERVAL;VALUE=DURATION:PT1H
X-Robots-Tag:noindex
X-PUBLISHED-TTL:PT1H
BEGIN:VTIMEZONE
TZID:Europe/Amsterdam
BEGIN:DAYLIGHT
TZOFFSETFROM:+0100
TZOFFSETTO:+0200
TZNAME:CEST
DTSTART:20230326T010000
END:DAYLIGHT
BEGIN:STANDARD
TZOFFSETFROM:+0200
TZOFFSETTO:+0100
TZNAME:CET
DTSTART:20231029T010000
END:STANDARD
BEGIN:DAYLIGHT
TZOFFSETFROM:+0100
TZOFFSETTO:+0200
TZNAME:CEST
DTSTART:20240331T010000
END:DAYLIGHT
BEGIN:STANDARD
TZOFFSETFROM:+0200
TZOFFSETTO:+0100
TZNAME:CET
DTSTART:20241027T010000
END:STANDARD
BEGIN:DAYLIGHT
TZOFFSETFROM:+0100
TZOFFSETTO:+0200
TZNAME:CEST
DTSTART:20250330T010000
END:DAYLIGHT
BEGIN:STANDARD
TZOFFSETFROM:+0200
TZOFFSETTO:+0100
TZNAME:CET
DTSTART:20251026T010000
END:STANDARD
END:VTIMEZONE
BEGIN:VEVENT
DTSTART;TZID=Europe/Amsterdam:20240707T103000
DTEND;TZID=Europe/Amsterdam:20240707T113000
DTSTAMP:20260421T175708
CREATED:20240701T065841Z
LAST-MODIFIED:20240706T061509Z
UID:13141-1720348200-1720351800@maranathakerkdenhaag.nl
SUMMARY:Kerkdienst 7 juli ...>
DESCRIPTION:Voorganger is ds. Mark van der Laan (foto). Organist is Andries Bogerd. Het is een dienst van Schrift en Tafel. \nDe voorganger\nMark van der Laan is de predikant van de Maranathakerk. \nDe organist\nAndries Bogerd is de kerkmusicus van de Maranathakerk. Informatie: klik hier. \nVoor kinderen in de basisschoolleeftijd is er een eigen bijeenkomst\, een ‘kindernevendienst’. Voor de allerkleinsten is er oppas. \nBezoekers zijn zonder beperkingen welkom. De toegang is vrij. Aanmelding is niet nodig. \nDe dienst is desgewenst ook te volgen via internet\, direct en achteraf. Er is een geluids- en een beeldverbinding (Kerkomroep).\nVerbinding met Kerkomroep: klik hier.\nOrde van Dienst: klik hier.
URL:https://maranathakerkdenhaag.nl/event/kerkdienst-7-juli/
CATEGORIES:Overig
ATTACH;FMTTYPE=image/jpeg:https://maranathakerkdenhaag.nl/wp-content/uploads/2023/03/Mark-van-der-Laan-maart-2023-1.jpg
END:VEVENT
BEGIN:VEVENT
DTSTART;TZID=Europe/Amsterdam:20240714T103000
DTEND;TZID=Europe/Amsterdam:20240714T113000
DTSTAMP:20260421T175708
CREATED:20240701T070220Z
LAST-MODIFIED:20240711T192959Z
UID:13144-1720953000-1720956600@maranathakerkdenhaag.nl
SUMMARY:Kerkdienst 14 juli ...>
DESCRIPTION:Voorganger is ds. Mark van der Laan (foto). Organist is Andries Bogerd. \nDe voorganger\nMark van der Laan is de predikant van de Maranathakerk. \nDe organist\nAndries Bogerd is de kerkmusicus van de Maranathakerk. Informatie: klik hier. \nVoor kinderen in de basisschoolleeftijd is er een eigen bijeenkomst\, een ‘kindernevendienst’. Voor de allerkleinsten is er oppas.\nTot 1 september is er geen kindernevendienst in verband met de zomervakantie. \nBezoekers zijn zonder beperkingen welkom. De toegang is vrij. Aanmelding is niet nodig. \nDe dienst is desgewenst ook te volgen via internet\, direct en achteraf. Er is een geluids- en een beeldverbinding (Kerkomroep).\nVerbinding met Kerkomroep: klik hier.\nOrde van Dienst: klik hier.
URL:https://maranathakerkdenhaag.nl/event/kerkdienst/
CATEGORIES:Overig
ATTACH;FMTTYPE=image/jpeg:https://maranathakerkdenhaag.nl/wp-content/uploads/2023/03/Mark-van-der-Laan-maart-2023-1.jpg
END:VEVENT
BEGIN:VEVENT
DTSTART;TZID=Europe/Amsterdam:20240721T103000
DTEND;TZID=Europe/Amsterdam:20240721T113000
DTSTAMP:20260421T175708
CREATED:20240701T075651Z
LAST-MODIFIED:20240719T074629Z
UID:13180-1721557800-1721561400@maranathakerkdenhaag.nl
SUMMARY:Kerkdienst 21 juli ...>
DESCRIPTION:Voorganger is ds. Rob van Essen (foto). Organist is Andries Bogerd. \nDe voorganger\nRob van Essen is emeritus hervormd predikant. Hij heeft gewerkt in Utrecht\, Amsterdam en Den Haag (Bethelkerk Loosduinen\, Laakkerk). Hij is redacteur en columnist van het maandblad Kerk in Den Haag. Verder heeft hij in boeken en tijdschriften gepubliceerd over ‘kerk in de grote stad’. Hij woont in Delft. \nDe organist\nAndries Bogerd is de kerkmusicus van de Maranathakerk. Informatie: klik hier. \nVoor kinderen in de basisschoolleeftijd is er doorgaans een eigen bijeenkomst\, een ‘kindernevendienst’. Voor de allerkleinsten is er oppas.\nIn de zomermaanden is er geen kindernevendienst. Hervatting op 1 september. \nBezoekers zijn zonder beperkingen welkom. De toegang is vrij. Aanmelding is niet nodig. \nDe dienst is desgewenst ook te volgen via internet\, direct en achteraf. Er is een geluids- en een beeldverbinding (Kerkomroep).\nVerbinding met Kerkomroep: klik hier.\nOrde van Dienst: klik hier.
URL:https://maranathakerkdenhaag.nl/event/kerkdienst-21-juli/
CATEGORIES:Overig
ATTACH;FMTTYPE=image/jpeg:https://maranathakerkdenhaag.nl/wp-content/uploads/2021/07/Rob-van-Essen-1-e1626683929913.jpg
END:VEVENT
BEGIN:VEVENT
DTSTART;TZID=Europe/Amsterdam:20240728T103000
DTEND;TZID=Europe/Amsterdam:20240728T113000
DTSTAMP:20260421T175708
CREATED:20240701T080904Z
LAST-MODIFIED:20240724T063602Z
UID:13191-1722162600-1722166200@maranathakerkdenhaag.nl
SUMMARY:Kerkdienst 28 juli ...>
DESCRIPTION:Voorganger is de heer Thomas Kraan. Organist is Lieuwe de Jong. \nDe voorganger\nThomas Kraan is theoloog te Utrecht. Hij is oud-gemeentelid van de Maranathakerk. \nDe organist\nLieuwe de Jong is toonkunstenaar te Den Haag. \nVoor kinderen in de basisschoolleeftijd is er een eigen bijeenkomst\, een ‘kindernevendienst’. Voor de allerkleinsten is er oppas.\nIn verband met de zomervakantie is er tot 1 september geen kindernevendienst. \nBezoekers zijn zonder beperkingen welkom. De toegang is vrij. Aanmelding is niet nodig. \nDe dienst is desgewenst ook te volgen via internet\, direct en achteraf. Er is een geluids- en een beeldverbinding (Kerkomroep).\nVerbinding met Kerkomroep: klik hier.\nOrde van Dienst: klik hier.
URL:https://maranathakerkdenhaag.nl/event/kerkdienst-28-juli/
CATEGORIES:Overig
ATTACH;FMTTYPE=image/jpeg:https://maranathakerkdenhaag.nl/wp-content/uploads/2021/06/Maranathakerk-Den-Haag-interieur.jpg
END:VEVENT
END:VCALENDAR