BEGIN:VCALENDAR
VERSION:2.0
PRODID:-//Maranathakerk Den Haag - ECPv6.15.13//NONSGML v1.0//EN
CALSCALE:GREGORIAN
METHOD:PUBLISH
X-ORIGINAL-URL:https://maranathakerkdenhaag.nl
X-WR-CALDESC:Evenementen voor Maranathakerk Den Haag
REFRESH-INTERVAL;VALUE=DURATION:PT1H
X-Robots-Tag:noindex
X-PUBLISHED-TTL:PT1H
BEGIN:VTIMEZONE
TZID:Europe/Amsterdam
BEGIN:DAYLIGHT
TZOFFSETFROM:+0100
TZOFFSETTO:+0200
TZNAME:CEST
DTSTART:20230326T010000
END:DAYLIGHT
BEGIN:STANDARD
TZOFFSETFROM:+0200
TZOFFSETTO:+0100
TZNAME:CET
DTSTART:20231029T010000
END:STANDARD
BEGIN:DAYLIGHT
TZOFFSETFROM:+0100
TZOFFSETTO:+0200
TZNAME:CEST
DTSTART:20240331T010000
END:DAYLIGHT
BEGIN:STANDARD
TZOFFSETFROM:+0200
TZOFFSETTO:+0100
TZNAME:CET
DTSTART:20241027T010000
END:STANDARD
BEGIN:DAYLIGHT
TZOFFSETFROM:+0100
TZOFFSETTO:+0200
TZNAME:CEST
DTSTART:20250330T010000
END:DAYLIGHT
BEGIN:STANDARD
TZOFFSETFROM:+0200
TZOFFSETTO:+0100
TZNAME:CET
DTSTART:20251026T010000
END:STANDARD
END:VTIMEZONE
BEGIN:VEVENT
DTSTART;TZID=Europe/Amsterdam:20240602T103000
DTEND;TZID=Europe/Amsterdam:20240602T113000
DTSTAMP:20260421T192915
CREATED:20240424T073458Z
LAST-MODIFIED:20240530T161140Z
UID:12915-1717324200-1717327800@maranathakerkdenhaag.nl
SUMMARY:Kerkdienst 2 juni ...>
DESCRIPTION:Voorganger is ds. Mark van der Laan. Organist is Andries Bogerd. Het is een dienst van Schrift en Tafel. \nInformatie over de voorganger\nMark van der Laan is de predikant van de Maranathakerk. \nInformatie over de organist\nAndries Bogerd is de kerkmusicus van de Maranathakerk. Informatie: klik hier. \nVoor kinderen in de basisschoolleeftijd is er een eigen bijeenkomst\, een ‘kindernevendienst’. Voor de allerkleinsten is er oppas. \nBezoekers zijn zonder beperkingen welkom. Aanmelding is niet nodig. \nDe dienst is desgewenst ook te volgen via internet\, direct en achteraf. Er is een geluids- en een beeldverbinding (Kerkomroep).\nVerbinding met Kerkomroep: klik hier.\nOrde van Dienst: klik hier.
URL:https://maranathakerkdenhaag.nl/event/kerkdienst-2-juni/
CATEGORIES:Overig
ATTACH;FMTTYPE=image/jpeg:https://maranathakerkdenhaag.nl/wp-content/uploads/2023/03/Mark-van-der-Laan-maart-2023-1.jpg
END:VEVENT
BEGIN:VEVENT
DTSTART;TZID=Europe/Amsterdam:20240609T103000
DTEND;TZID=Europe/Amsterdam:20240609T113000
DTSTAMP:20260421T192915
CREATED:20240424T074327Z
LAST-MODIFIED:20240607T073430Z
UID:12918-1717929000-1717932600@maranathakerkdenhaag.nl
SUMMARY:Kerkdienst 9 juni ...>
DESCRIPTION:Voorganger is ds. Jan Tom Schneider. Organist is Andries Bogerd. \nInformatie over de voorganger\nVanochtend verwelkomt de Maranathakerk een nieuwe gastpredikant\, ds. Jan Tom Schneider. Hij heeft theologie gestudeerd in Leiden en aansluitend gewerkt als pastoraal werker in de sloppenwijken van Buenos Aires. Daaraan heeft hij een bijzondere liefde voor Zuid-Amerika overgehouden. Aansluitend was hij eind jaren tachtig jeugdpastor in de Kloosterkerk in Den Haag en vervolgens geestelijk verzorger bij de Koninklijke luchtmacht. Tot voor kort was hij opnieuw verbonden aan de Kloosterkerk\, als tijdelijk voorganger.\nSchneider (1961) is geboren in Wamena\, op het voormalige Nederlands Nieuw-Guinea. Zijn vader was Carel Jan Schneider\, geboren in Batavia en als diplomaat werkzaam in vele landen. Onder het pseudoniem F. Springer heeft hij verscheidene boeken geschreven\, onder andere Bericht uit Hollandia\, Tabee New York en Weemoed en verlangen. \nInformatie over de organist\nAndries Bogerd is de kerkmusicus van de Maranathakerk. Informatie: klik hier. \nVoor kinderen in de basisschoolleeftijd is er een eigen bijeenkomst\, een ‘kindernevendienst’. Voor de allerkleinsten is er oppas. \nBezoekers zijn zonder beperkingen welkom. Aanmelding is niet nodig. \nDe dienst is desgewenst ook te volgen via internet\, direct en achteraf. Er is een geluids- en een beeldverbinding (Kerkomroep).\nVerbinding met Kerkomroep: klik hier.\nOrde van Dienst: klik hier.
URL:https://maranathakerkdenhaag.nl/event/kerkdienst-9-juni/
CATEGORIES:Overig
ATTACH;FMTTYPE=image/jpeg:https://maranathakerkdenhaag.nl/wp-content/uploads/2024/04/Jan-Tom-Schneider.jpg
END:VEVENT
BEGIN:VEVENT
DTSTART;TZID=Europe/Amsterdam:20240616T103000
DTEND;TZID=Europe/Amsterdam:20240616T113000
DTSTAMP:20260421T192915
CREATED:20240424T075133Z
LAST-MODIFIED:20240614T072729Z
UID:12923-1718533800-1718537400@maranathakerkdenhaag.nl
SUMMARY:Kerkdienst 16 juni ...>
DESCRIPTION:Voorganger is ds. Robert Jan Baker (foto). Organist is Andries Bogerd. \nInformatie over de voorganger\nRobert Jan Bakker is emeritus hervormd predikant. Zijn hele loopbaan heeft hij gewerkt in Amsterdam-Osdorp/Sloten.\nHij heeft gestudeerd in Leiden en is daar in 2007 ook gepromoveerd\, op een proefschrift over de ethische argumenten van voor- en tegenstanders van de economische en politieke boycot van het Zuid-Afrikaanse apartheidsregime. Verder was hij lid van de theologische deelredactie van het oecumenisch opinieweekblad Hervormd Nederland. Kerkelijk bestuurswerk is hem ook niet vreemd. Hij was voorzitter van de classis\, de regionale kerkvergadering\, en verder voorzitter van het landelijke protestantse Werkverband van Homo-Theologen. \nInformatie over de organist\nAndries Bogerd is de kerkmusicus van de Maranathakerk. Informatie en contact: klik hier. \nBezoekers zijn zonder beperkingen welkom. Aanmelden is niet nodig. Voor kinderen in de basisschoolleeftijd is er een eigen bijeenkomst. \nDe dienst is desgewenst ook te volgen via internet\, direct en achteraf. Er is een geluids- en een beeldverbinding (Kerkomroep).\nVerbinding met Kerkomroep: klik hier.\nOrde van Dienst: klik hier.
URL:https://maranathakerkdenhaag.nl/event/kerkdienst-16-juni/
CATEGORIES:Overig
ATTACH;FMTTYPE=image/jpeg:https://maranathakerkdenhaag.nl/wp-content/uploads/2021/09/Robert-Jan-Bakker-1.jpg
END:VEVENT
BEGIN:VEVENT
DTSTART;TZID=Europe/Amsterdam:20240623T103000
DTEND;TZID=Europe/Amsterdam:20240623T114500
DTSTAMP:20260421T192915
CREATED:20240424T075751Z
LAST-MODIFIED:20240622T075235Z
UID:12926-1719138600-1719143100@maranathakerkdenhaag.nl
SUMMARY:Cantatedienst 23 juni ...>
DESCRIPTION:Voorganger is ds. Bert Kuipers. Organist is Andries Bogerd. Medewerking verleent het Haags barokensemble Musica Poëtica met de alt Alexandre Dandelot onder leiding van Jörn Boysen (foto). Uitgevoerd worden een sonate van Dietrich Becker en een Lamento van Johann Christoph Bach. \nDe voorganger\nBert Kuipers is emeritus-predikant van de Laurenskerk in Rotterdam. Daarnaast is hij actief als beeldend kunstenaar. Hij legt zich toe op aquarellen\, cartoons en illustraties. Werken van zijn hand verschijnen in verscheidene tijdschriften. \nDe organist\nAndries Bogerd is de kerkmusicus van de Maranathakerk. Informatie: klik hier. \nDe cantate\nHet Haags barokensemble staat onder leiding van de klavecinist Jörn Boysen. Informatie: klik hier. \nVoor kinderen in de basisschoolleeftijd is er een eigen bijeenkomst\, een ‘kindernevendienst’. Voor de allerkleinsten is er oppas. \nBezoekers zijn zonder beperkingen welkom. Aanmelding is niet nodig. \nDe dienst is desgewenst ook te volgen via internet\, direct en achteraf. Er is een geluids- en een beeldverbinding (Kerkomroep).\nVerbinding met Kerkomroep: klik hier.\nOrde van Dienst: klik hier.
URL:https://maranathakerkdenhaag.nl/event/cantatedienst-23-juni/
CATEGORIES:Overig
ATTACH;FMTTYPE=image/jpeg:https://maranathakerkdenhaag.nl/wp-content/uploads/2017/03/Jörn-Boysen2.jpg
END:VEVENT
BEGIN:VEVENT
DTSTART;TZID=Europe/Amsterdam:20240630T103000
DTEND;TZID=Europe/Amsterdam:20240630T113000
DTSTAMP:20260421T192915
CREATED:20240424T080721Z
LAST-MODIFIED:20240628T065029Z
UID:12930-1719743400-1719747000@maranathakerkdenhaag.nl
SUMMARY:Kerkdienst 30 juni ...>
DESCRIPTION:Voorganger is ds. Wilna Steenbergen (foto). Organist is Andries Bogerd. \nDe voorganger\nWilna Steenbergen is emeritus predikant. Ze heeft gewerkt als geestelijk verzorger in het Bronovo-ziekenhuis in Den Haag. \nDe organist\nAndries Bogerd is de kerkmusicus van de Maranathakerk. Informatie: klik hier. \nVoor kinderen in de basisschoolleeftijd is er een eigen bijeenkomst\, een ‘kindernevendienst’. Voor de allerkleinsten is er oppas. \nBezoekers zijn zonder beperkingen welkom. Aanmelding is niet nodig. \nDe dienst is desgewenst ook te volgen via internet\, direct en achteraf. Er is een geluids- en een beeldverbinding (Kerkomroep).\nVerbinding met Kerkomroep: klik hier.\nOrde van Dienst: klik hier.
URL:https://maranathakerkdenhaag.nl/event/kerkdienst-30-juni/
CATEGORIES:Overig
ATTACH;FMTTYPE=image/jpeg:https://maranathakerkdenhaag.nl/wp-content/uploads/2022/05/Wilna-Steenbergen.jpg
END:VEVENT
END:VCALENDAR