BEGIN:VCALENDAR
VERSION:2.0
PRODID:-//Maranathakerk Den Haag - ECPv6.15.13//NONSGML v1.0//EN
CALSCALE:GREGORIAN
METHOD:PUBLISH
X-ORIGINAL-URL:https://maranathakerkdenhaag.nl
X-WR-CALDESC:Evenementen voor Maranathakerk Den Haag
REFRESH-INTERVAL;VALUE=DURATION:PT1H
X-Robots-Tag:noindex
X-PUBLISHED-TTL:PT1H
BEGIN:VTIMEZONE
TZID:Europe/Amsterdam
BEGIN:DAYLIGHT
TZOFFSETFROM:+0100
TZOFFSETTO:+0200
TZNAME:CEST
DTSTART:20230326T010000
END:DAYLIGHT
BEGIN:STANDARD
TZOFFSETFROM:+0200
TZOFFSETTO:+0100
TZNAME:CET
DTSTART:20231029T010000
END:STANDARD
BEGIN:DAYLIGHT
TZOFFSETFROM:+0100
TZOFFSETTO:+0200
TZNAME:CEST
DTSTART:20240331T010000
END:DAYLIGHT
BEGIN:STANDARD
TZOFFSETFROM:+0200
TZOFFSETTO:+0100
TZNAME:CET
DTSTART:20241027T010000
END:STANDARD
BEGIN:DAYLIGHT
TZOFFSETFROM:+0100
TZOFFSETTO:+0200
TZNAME:CEST
DTSTART:20250330T010000
END:DAYLIGHT
BEGIN:STANDARD
TZOFFSETFROM:+0200
TZOFFSETTO:+0100
TZNAME:CET
DTSTART:20251026T010000
END:STANDARD
END:VTIMEZONE
BEGIN:VEVENT
DTSTART;TZID=Europe/Amsterdam:20240504T184500
DTEND;TZID=Europe/Amsterdam:20240504T191500
DTSTAMP:20260421T223326
CREATED:20240424T082705Z
LAST-MODIFIED:20240424T082705Z
UID:12956-1714848300-1714850100@maranathakerkdenhaag.nl
SUMMARY:Dodenherdenking: muziek\, declamatie\, wandeling ...>
DESCRIPTION:Op de avond van zaterdag 4 mei\, Dodenherdenking\, is de Maranathakerk geopend. Kort na de bevrijding in 1949 gebouwd op het terrein van de Atlantikwall is de Maranathakerk een goede plaats om de gruwelen van de Tweede Wereldoorlog\, en in breder verband de turbulente geschiedenis van de twintigste eeuw\, te herdenken.\nIn de vroege vooravond is er in de kerk een korte bijeenkomst met muziek\, declamatie en stilte. De bezoekers krijgen bloemen en een kaartje\, waarop ze enkele gedachten kunnen schrijven. Aansluitend wandelen de bezoekers gezamenlijk naar het Haags Oorlogsmonument (foto) voor het Vredespaleis. Daar is om 20 uur een officiële herdenking.\nVerzamelen in de Maranathakerk: 18.45 uur.
URL:https://maranathakerkdenhaag.nl/event/dodenherdenking-muziek-declamatie-wandeling-2/
CATEGORIES:Overig
ATTACH;FMTTYPE=image/jpeg:https://maranathakerkdenhaag.nl/wp-content/uploads/2022/05/Oorlogsmonument_voor_Vredespaleis-scaled.jpg
END:VEVENT
BEGIN:VEVENT
DTSTART;TZID=Europe/Amsterdam:20240505T103000
DTEND;TZID=Europe/Amsterdam:20240505T113000
DTSTAMP:20260421T223326
CREATED:20240424T062533Z
LAST-MODIFIED:20240504T073355Z
UID:12903-1714905000-1714908600@maranathakerkdenhaag.nl
SUMMARY:Kerkdienst 5 mei ...>
DESCRIPTION:Voorganger is ds. Bert Kuipers. Organist is Andries Bogerd. \nInformatie over de voorganger\nBert Kuipers is emeritus-predikant van de Laurenskerk in Rotterdam. Daarnaast is hij actief als beeldend kunstenaar. Hij legt zich toe op aquarellen\, cartoons en illustraties. Werken van zijn hand verschijnen in verscheidene tijdschriften. \nInformatie over de organist\nAndries Bogerd is de kerkmusicus van de Maranathakerk. Informatie en contact: klik hier. \nVoor kinderen in de basisschoolleeftijd is er een eigen bijeenkomst\, een ‘kindernevendienst’. Voor de allerkleinsten is er oppas. \nBezoekers zijn zonder beperkingen welkom. Aanmelding is niet nodig. \nDe dienst is desgewenst ook te volgen via internet\, direct en achteraf. Er is een geluids- en een beeldverbinding (Kerkomroep).\nVerbinding met Kerkomroep: klik hier.\nOrde van Dienst: klik hier.
URL:https://maranathakerkdenhaag.nl/event/kerkdienst-5-mei/
CATEGORIES:Overig
ATTACH;FMTTYPE=image/png:https://maranathakerkdenhaag.nl/wp-content/uploads/2021/11/Bert-Kuipers-e1636475456600.png
END:VEVENT
BEGIN:VEVENT
DTSTART;TZID=Europe/Amsterdam:20240512T103000
DTEND;TZID=Europe/Amsterdam:20240512T113000
DTSTAMP:20260421T223326
CREATED:20240424T062937Z
LAST-MODIFIED:20240510T123719Z
UID:12906-1715509800-1715513400@maranathakerkdenhaag.nl
SUMMARY:Kerkdienst 12 mei ...>
DESCRIPTION:Voorganger is ds. Renske Oldenboom. Organist is Andries Bogerd. \nInformatie over de voorganger\nRenske Oldenboom is studentenpredikant in Delft. Ze heeft theologie gestudeerd aan de Vrije Universiteit in Amsterdam. \nInformatie over de organist\nAndries Bogerd is de kerkmusicus van de Maranathakerk. Informatie: klik hier. \nVoor kinderen in de basisschoolleeftijd is er vanwege de voorjaarsvakantie geen ‘kindernevendienst’. Volgende week beginnen deze kinderbijeenkomsten weer. \nBezoekers zijn zonder beperkingen welkom. Aanmelding is niet nodig. \nDe dienst is desgewenst ook te volgen via internet\, direct en achteraf. Er is een geluids- en een beeldverbinding (Kerkomroep).\nVerbinding met Kerkomroep: klik hier.\nOrde van Dienst: klik hier.
URL:https://maranathakerkdenhaag.nl/event/kerkdienst-12-mei/
CATEGORIES:Overig
ATTACH;FMTTYPE=image/jpeg:https://maranathakerkdenhaag.nl/wp-content/uploads/2022/09/Renske-Oldenboom-e1677844390279.jpg
END:VEVENT
BEGIN:VEVENT
DTSTART;TZID=Europe/Amsterdam:20240518T133000
DTEND;TZID=Europe/Amsterdam:20240518T183000
DTSTAMP:20260421T223326
CREATED:20240424T082131Z
LAST-MODIFIED:20240518T120927Z
UID:12953-1716039000-1716057000@maranathakerkdenhaag.nl
SUMMARY:Jubileumfeest Maranathakerk 75 jaar ...>
DESCRIPTION:Op zaterdagmiddag 18 mei wordt het jubileumfeest van de Maranathakerk gehouden. Een gezellige middag met hapjes en drankjes en alle ruimte om elkaar te ontmoeten. De middag start om 13.30 uur met koffie/thee en wat lekkers. Vanaf 14.00 speelt accordeonist Eduard Bekker (meezing)muziek in de gemeentezaal. Daarna gaan we langzaam over op de borrel met om 15.30 een echte pubquiz onder leiding van Chris van Dam. We sluiten om 16.30 uur de middag af met een concert in de kerkzaal door chansonnier/pianist Guido van de Meent. Hij zingt Franse en Nederlandse luisterliedjes. In de tuinzaal is er deze middag gelegenheid (taal)spelletjes te doen. \nVoor het volledige programma: klik hier. \n  \n  \n 
URL:https://maranathakerkdenhaag.nl/event/jubileumfestival-maranathakerk-75-jaar/
CATEGORIES:Eten & Drinken,Muziek,Overig
END:VEVENT
BEGIN:VEVENT
DTSTART;TZID=Europe/Amsterdam:20240519T103000
DTEND;TZID=Europe/Amsterdam:20240519T113000
DTSTAMP:20260421T223326
CREATED:20240424T072642Z
LAST-MODIFIED:20240517T063350Z
UID:12909-1716114600-1716118200@maranathakerkdenhaag.nl
SUMMARY:Kerkdienst Pinksteren 19 mei\, jubileumdienst Maranathakerk 75 jaar ...>
DESCRIPTION:Voorganger is ds. Mark van der Laan. Organist is Andries Bogerd. Medewerking verlenen verder Jorina van Bergen\, piano\, en Christ de Jong\, klarinet. Vandaag wordt het 75-jarig bestaan van de Maranathakerk gevierd. Voor het volledige jubileumprogramma: klik hier. \nInformatie over de voorganger\nMark van der Laan is  de predikant van de Maranathakerk. \nInformatie over de organist\nAndries Bogerd is de kerkmusicus van de Maranathakerk. Informatie: klik hier. \nVoor kinderen in de basisschoolleeftijd is er een eigen bijeenkomst\, een ‘kindernevendienst’. Voor de allerkleinsten is er oppas. \nBezoekers zijn zonder beperkingen welkom. Aanmelding is niet nodig. \nDe dienst is desgewenst ook te volgen via internet\, direct en achteraf. Er is een geluids- en een beeldverbinding (Kerkomroep).\nVerbinding met Kerkomroep: klik hier.\nOrde van Dienst: klik hier.
URL:https://maranathakerkdenhaag.nl/event/kerkdienst-pinksteren-19-mei-jubileumdienst-maranathakerk-75-jaar/
CATEGORIES:Overig
END:VEVENT
BEGIN:VEVENT
DTSTART;TZID=Europe/Amsterdam:20240525T100000
DTEND;TZID=Europe/Amsterdam:20240525T120000
DTSTAMP:20260421T223326
CREATED:20240405T170544Z
LAST-MODIFIED:20240412T083842Z
UID:12865-1716631200-1716638400@maranathakerkdenhaag.nl
SUMMARY:Inleverdag voor bazaar ...>
DESCRIPTION:Vanochtend kunt u van 10 tot 12 uur goederen inleveren voor de grote najaarsbazaar van de Maranathakerk.\nWe kunnen gebruiken: goede kleding\, boeken (kunst\, historie\, literatuur\, politiek\, wetenschap\, spiritualiteit\, godsdienst\, culinair\, kinderboeken\, reisboeken etc.). Verder designartikelen uit bekende stijlperioden\, brocante & antiek\, schilderijen\, serviesgoed en klein huisraad. Geen meubels\, loodzware tv’s en oude computers. \nDe volgende inleverdagen zijn de zaterdagen 24 en 31 augustus.\nVraag: wilt u tussendoor geen dozen en tassen met goederen voor de deur zetten?\nAls u de komende maanden een grote partij goederen wilt afstaan voor de bazaar\, kunt u ons bellen of mailen. We maken dan een afspraak. Tel.: 06 10 16 90 59 (Carolien Gijsbers). E-mail: cfm.gijsbers@planet.nl \nDe bazaar is op vrijdag 6 en zaterdag 7 september.
URL:https://maranathakerkdenhaag.nl/event/inleverdag-voor-bazaar-6/
CATEGORIES:Overig
ATTACH;FMTTYPE=image/jpeg:https://maranathakerkdenhaag.nl/wp-content/uploads/2016/04/bazaar-maranathakerk-denhaag.jpg
END:VEVENT
BEGIN:VEVENT
DTSTART;TZID=Europe/Amsterdam:20240526T103000
DTEND;TZID=Europe/Amsterdam:20240526T113000
DTSTAMP:20260421T223326
CREATED:20240424T073149Z
LAST-MODIFIED:20240524T051826Z
UID:12912-1716719400-1716723000@maranathakerkdenhaag.nl
SUMMARY:Kerkdienst 26 mei ...>
DESCRIPTION:Voorganger is ds. Ad Alblas (foto). Organist is Andries Bogerd. \nInformatie over de voorganger\nAd Alblas is emeritus predikant van de Binnenstadsgemeente (Hooglandse kerk) in Leiden. Hij is nu interim-predikant in Wassenaar en Bennebroek. \nInformatie over de organist\nAndries Bogerd is de kerkmusicus van de Maranathakerk. Informatie: klik hier. \nVoor kinderen in de basisschoolleeftijd is er een eigen bijeenkomst\, een ‘kindernevendienst’. Voor de allerkleinsten is er oppas. \nBezoekers zijn zonder beperkingen welkom. Aanmelding is niet nodig. \nDe dienst is desgewenst ook te volgen via internet\, direct en achteraf. Er is een geluids- en een beeldverbinding (Kerkomroep).\nVerbinding met Kerkomroep: klik hier.\nOrde van Dienst: klik hier.
URL:https://maranathakerkdenhaag.nl/event/kerkdienst-26-mei/
CATEGORIES:Overig
ATTACH;FMTTYPE=image/jpeg:https://maranathakerkdenhaag.nl/wp-content/uploads/2022/03/Ad-Alblas.jpeg
END:VEVENT
END:VCALENDAR