BEGIN:VCALENDAR
VERSION:2.0
PRODID:-//Maranathakerk Den Haag - ECPv6.15.13//NONSGML v1.0//EN
CALSCALE:GREGORIAN
METHOD:PUBLISH
X-WR-CALNAME:Maranathakerk Den Haag
X-ORIGINAL-URL:https://maranathakerkdenhaag.nl
X-WR-CALDESC:Evenementen voor Maranathakerk Den Haag
REFRESH-INTERVAL;VALUE=DURATION:PT1H
X-Robots-Tag:noindex
X-PUBLISHED-TTL:PT1H
BEGIN:VTIMEZONE
TZID:Europe/Amsterdam
BEGIN:DAYLIGHT
TZOFFSETFROM:+0100
TZOFFSETTO:+0200
TZNAME:CEST
DTSTART:20220327T010000
END:DAYLIGHT
BEGIN:STANDARD
TZOFFSETFROM:+0200
TZOFFSETTO:+0100
TZNAME:CET
DTSTART:20221030T010000
END:STANDARD
BEGIN:DAYLIGHT
TZOFFSETFROM:+0100
TZOFFSETTO:+0200
TZNAME:CEST
DTSTART:20230326T010000
END:DAYLIGHT
BEGIN:STANDARD
TZOFFSETFROM:+0200
TZOFFSETTO:+0100
TZNAME:CET
DTSTART:20231029T010000
END:STANDARD
BEGIN:DAYLIGHT
TZOFFSETFROM:+0100
TZOFFSETTO:+0200
TZNAME:CEST
DTSTART:20240331T010000
END:DAYLIGHT
BEGIN:STANDARD
TZOFFSETFROM:+0200
TZOFFSETTO:+0100
TZNAME:CET
DTSTART:20241027T010000
END:STANDARD
END:VTIMEZONE
BEGIN:VEVENT
DTSTART;TZID=Europe/Amsterdam:20230604T103000
DTEND;TZID=Europe/Amsterdam:20230604T113000
DTSTAMP:20260422T174805
CREATED:20230509T080822Z
LAST-MODIFIED:20230602T062323Z
UID:11926-1685874600-1685878200@maranathakerkdenhaag.nl
SUMMARY:Kerkdienst zondag 4 juni ...>
DESCRIPTION:Voorganger is ds. Mark van der Laan. Organist is Bert van Stam. Het is een dienst van Schrift en Tafel. \nInformatie over de voorganger\nMark van der Laan is de predikant van de Maranathakerk. \nInformatie over de organist\nBert van Stam is de kerkmusicus van de Maranathakerk. Informatie: klik hier. \nVoor kinderen in de basisschoolleeftijd is er een eigen bijeenkomst. \nBezoekers zijn zonder beperkingen welkom. Aanmelden is niet nodig\nDe dienst is desgewenst ook te volgen via internet\, direct en achteraf. Er is een geluids- en een beeldverbinding (Kerkomroep).\nVerbinding met Kerkomroep: klik hier.\nOrde van Dienst: klik hier.
URL:https://maranathakerkdenhaag.nl/event/kerkdienst-zondag-4-juni/
CATEGORIES:Overig
ATTACH;FMTTYPE=image/jpeg:https://maranathakerkdenhaag.nl/wp-content/uploads/2023/03/Mark-van-der-Laan-maart-2023-e1678651736140.jpg
END:VEVENT
BEGIN:VEVENT
DTSTART;TZID=Europe/Amsterdam:20230611T103000
DTEND;TZID=Europe/Amsterdam:20230611T113000
DTSTAMP:20260422T174805
CREATED:20230526T204931Z
LAST-MODIFIED:20230608T065809Z
UID:11959-1686479400-1686483000@maranathakerkdenhaag.nl
SUMMARY:Kerkdienst zondag 11 juni ...>
DESCRIPTION:Voorganger is ds. Robert Jan Bakker (foto). Organist is Bert van Stam. \nInformatie over de voorganger\nRobert Jan Bakker is emeritus hervormd predikant. Zijn hele loopbaan heeft hij gewerkt in Amsterdam-Osdorp/Sloten.\nHij heeft gestudeerd in Leiden en is daar in 2007 ook gepromoveerd\, op een proefschrift over de ethische argumenten van voor- en tegenstanders van de economische en politieke boycot van het Zuid-Afrikaanse apartheidsregime. Verder was hij lid van de theologische deelredactie van het oecumenisch opinieweekblad Hervormd Nederland. Kerkelijk bestuurswerk is hem ook niet vreemd. Hij was voorzitter van de classis\, de regionale kerkvergadering\, en verder voorzitter van het landelijke protestantse Werkverband van Homo-Theologen. \nInformatie over de organist\nBert van Stam is de kerkmusicus van de Maranathakerk. Informatie: klik hier. \nBezoekers zijn zonder beperkingen welkom. Aanmelden is niet nodig. Voor kinderen in de basisschoolleeftijd is er een eigen bijeenkomst. \nDe dienst is desgewenst ook te volgen via internet\, direct en achteraf. Er is een geluids- en een beeldverbinding (Kerkomroep).\nVerbinding met Kerkomroep: klik hier.\nOrde van Dienst: klik hier.
URL:https://maranathakerkdenhaag.nl/event/kerkdienst-zondag-11-juni/
CATEGORIES:Overig
ATTACH;FMTTYPE=image/jpeg:https://maranathakerkdenhaag.nl/wp-content/uploads/2021/09/Robert-Jan-Bakker-1.jpg
END:VEVENT
BEGIN:VEVENT
DTSTART;TZID=Europe/Amsterdam:20230618T103000
DTEND;TZID=Europe/Amsterdam:20230618T114500
DTSTAMP:20260422T174805
CREATED:20230526T204309Z
LAST-MODIFIED:20230615T172659Z
UID:11956-1687084200-1687088700@maranathakerkdenhaag.nl
SUMMARY:Kerkdienst met Musica Poëtica\, zondag 18 juni ...>
DESCRIPTION:Voorganger is ds. Mark van der Laan. Organist is Bert van Stam. Aan de dienst werkt het Haags barokensemble Musica Poëtica mee:\nFreek Borstlap en Ivanka Neleman\, viola da gamba\, María Sánchez\, basse de violon\, Jörn Boysen\, klavecimbel en dirigent. \nInformatie over de voorganger\nMark van der Laan (foto) is de predikant van de Maranathakerk. \nInformatie over Musica Poëtica: klik hier.\nUitgevoerd wordt een trio concertante voor twee gamba’s en basso continuo van Johann Gottlieb Graun (1702-1771).\nInformatie over de componist: klik hier. \nInformatie over de organist\nBert van Stam is de kerkmusicus van de Maranathakerk. Informatie: klik hier. \nVoor kinderen in de basisschoolleeftijd is er een eigen bijeenkomst. \nBezoekers zijn zonder beperkingen welkom. Aanmelden is niet nodig\nDe dienst is desgewenst ook te volgen via internet\, direct en achteraf. Er is een geluids- en een beeldverbinding (Kerkomroep).\nVerbinding met Kerkomroep: klik hier.\nOrde van Dienst: klik hier.
URL:https://maranathakerkdenhaag.nl/event/cantatedienst-zondag-18-juni/
CATEGORIES:Overig
ATTACH;FMTTYPE=image/jpeg:https://maranathakerkdenhaag.nl/wp-content/uploads/2023/03/Mark-van-der-Laan-maart-2023-e1678651736140.jpg
END:VEVENT
BEGIN:VEVENT
DTSTART;TZID=Europe/Amsterdam:20230625T103000
DTEND;TZID=Europe/Amsterdam:20230625T113000
DTSTAMP:20260422T174805
CREATED:20230428T145708Z
LAST-MODIFIED:20230623T055109Z
UID:11881-1687689000-1687692600@maranathakerkdenhaag.nl
SUMMARY:Kerkdienst 25 juni ...>
DESCRIPTION:Voorganger is ds. Rob van Essen (foto). Organist is Bert van Stam. \nInformatie over de voorganger\nRob van Essen is emeritus hervormd predikant. Hij heeft gewerkt in Utrecht\, Amsterdam en Den Haag (Bethelkerk Loosduinen\, Laakkerk). Zijn grote belangstelling gaat uit naar de kerk in de grote stad. Daarover gaat ook zijn nieuwe boek ‘Toen was geloof niet meer gewoon’\, een bundeling van artikelen uit gevarieerde tijdschriften over kerk en geloof in de 21ste eeuw . Hij is verder redacteur en columnist van het maandblad/website Kerk in Den Haag. Hij woont in Delft. \nInformatie over de organist\nBert van Stam is de kerkmusicus van de Maranathakerk. Informatie: klik hier. \nBezoekers zijn zonder beperkingen welkom. Aanmelding is niet nodig. Voor kinderen in de basisschoolleeftijd is een aparte bijeenkomst. \nDe dienst is desgewenst ook te volgen via internet\, direct en achteraf. Er is een geluids- en een beeldverbinding (Kerkomroep).\nVerbinding met Kerkomroep: klik hier.\nOrde van Dienst: klik hier.
URL:https://maranathakerkdenhaag.nl/event/kerkdienst-25-juni/
CATEGORIES:Overig
ATTACH;FMTTYPE=image/jpeg:https://maranathakerkdenhaag.nl/wp-content/uploads/2021/07/Rob-van-Essen-1-e1626683929913.jpg
END:VEVENT
END:VCALENDAR