BEGIN:VCALENDAR
VERSION:2.0
PRODID:-//Maranathakerk Den Haag - ECPv6.15.13//NONSGML v1.0//EN
CALSCALE:GREGORIAN
METHOD:PUBLISH
X-ORIGINAL-URL:https://maranathakerkdenhaag.nl
X-WR-CALDESC:Evenementen voor Maranathakerk Den Haag
REFRESH-INTERVAL;VALUE=DURATION:PT1H
X-Robots-Tag:noindex
X-PUBLISHED-TTL:PT1H
BEGIN:VTIMEZONE
TZID:Europe/Amsterdam
BEGIN:DAYLIGHT
TZOFFSETFROM:+0100
TZOFFSETTO:+0200
TZNAME:CEST
DTSTART:20240331T010000
END:DAYLIGHT
BEGIN:STANDARD
TZOFFSETFROM:+0200
TZOFFSETTO:+0100
TZNAME:CET
DTSTART:20241027T010000
END:STANDARD
BEGIN:DAYLIGHT
TZOFFSETFROM:+0100
TZOFFSETTO:+0200
TZNAME:CEST
DTSTART:20250330T010000
END:DAYLIGHT
BEGIN:STANDARD
TZOFFSETFROM:+0200
TZOFFSETTO:+0100
TZNAME:CET
DTSTART:20251026T010000
END:STANDARD
BEGIN:DAYLIGHT
TZOFFSETFROM:+0100
TZOFFSETTO:+0200
TZNAME:CEST
DTSTART:20260329T010000
END:DAYLIGHT
BEGIN:STANDARD
TZOFFSETFROM:+0200
TZOFFSETTO:+0100
TZNAME:CET
DTSTART:20261025T010000
END:STANDARD
BEGIN:DAYLIGHT
TZOFFSETFROM:+0100
TZOFFSETTO:+0200
TZNAME:CEST
DTSTART:20270328T010000
END:DAYLIGHT
BEGIN:STANDARD
TZOFFSETFROM:+0200
TZOFFSETTO:+0100
TZNAME:CET
DTSTART:20271031T010000
END:STANDARD
END:VTIMEZONE
BEGIN:VEVENT
DTSTART;TZID=Europe/Amsterdam:20251221T170000
DTEND;TZID=Europe/Amsterdam:20251221T180000
DTSTAMP:20260421T042240
CREATED:20251213T211811Z
LAST-MODIFIED:20251213T211811Z
UID:14371-1766336400-1766340000@maranathakerkdenhaag.nl
SUMMARY:Volkskerstzang op zondagmiddag ...>
DESCRIPTION:Op de late zondagmiddag voor Kerst: een uur muziek in de sfeer van Kerstfeest. Het Haags Huisartsenkoor onder leiding van Bertie van Spronsen zingt klassieke koorstukken. En wie wil\, kan bekende kerstliederen meezingen\, begeleid door organist Andries Bogerd. Na afloop glühwein en krentenbrood. De toegang is vrij. Bij de uitgang is er een collecte.\nZondag 21 december\, 17-18 uur.\nMaranathakerk\, 2e Sweelinckstraat 156.
URL:https://maranathakerkdenhaag.nl/event/volkskerstzang-op-zondagmiddag/
CATEGORIES:Muziek
ATTACH;FMTTYPE=image/jpeg:https://maranathakerkdenhaag.nl/wp-content/uploads/2016/04/IMGP1696-e1638784802871.jpg
END:VEVENT
BEGIN:VEVENT
DTSTART;TZID=Europe/Amsterdam:20260107T100000
DTEND;TZID=Europe/Amsterdam:20260107T120000
DTSTAMP:20260421T042240
CREATED:20251216T145742Z
LAST-MODIFIED:20251216T145801Z
UID:14374-1767780000-1767787200@maranathakerkdenhaag.nl
SUMMARY:Nieuwjaarsconcert met operetteklanken ...>
DESCRIPTION:Het Nieuwjaarsconcert! Het maandelijkse koffieconcert in de Maranathakerk is ditmaal een gezellig nieuwjaarsoptreden van die Haghe Operettespelers (foto). Een sprankelende show van bekende stukken uit het gouden repertoire van de klassieke operettewereld.\nWoensdag 7 januari\, 10-12 uur. Toegang vrij\, collecte.
URL:https://maranathakerkdenhaag.nl/event/nieuwjaarsconcert-met-operetteklanken/
CATEGORIES:Muziek
ATTACH;FMTTYPE=image/jpeg:https://maranathakerkdenhaag.nl/wp-content/uploads/2025/12/Operettezangers-scaled.jpg
END:VEVENT
BEGIN:VEVENT
DTSTART;TZID=Europe/Amsterdam:20260204T100000
DTEND;TZID=Europe/Amsterdam:20260204T120000
DTSTAMP:20260421T042240
CREATED:20260127T165445Z
LAST-MODIFIED:20260127T165445Z
UID:14414-1770199200-1770206400@maranathakerkdenhaag.nl
SUMMARY:Koffieconcert op woensdag ...>
DESCRIPTION:Elke eerste woensdag van de maand is er in de Maranathakerk van 10 tot 12 uur een koffieconcert. Vanochtend zijn de musici Ernst Stolz\, viool\, en Jippe Holwerda\, piano. Entree en koffie (met koekje) zijn gratis. Er gaat een mandje rond voor een vrijwillige bijdrage. \nHet programma is als volgt. \nBlok 1: Bach en zijn vrienden:\nTelemann – sonatine in A groot: Adagio; Allegro Assai\nBach – 6e sonate in G BWV 1019: deel 1Allegro\nScarlatti  – Sonate Pastorale (piano solo)\nHandel – Gigue van sonata in F HWV 370\nGottfried Kirchhoff  1685-1746 – Sonate no 11 b klein: Vivace en Presto \nBlok 2: De Weense klassiekers:\nHaydn Serenade\nMozart Sonate e klein KV 304\nEine kleine Nacht Musik\, deel 1\, Allegro \nBlok 3: Een leuk concertje en nog wat extra’s\nOscar Rieding concert  in b klein Opus 35\nJoachim Johow: Uit “Violin And Coffee”\nEnglish Coffee\nCoffee nr 8 Tropical\nItaliaanse Tarantella: Funiculi Funicula
URL:https://maranathakerkdenhaag.nl/event/koffieconcert-op-woensdag-5/
CATEGORIES:Muziek
ATTACH;FMTTYPE=image/jpeg:https://maranathakerkdenhaag.nl/wp-content/uploads/2016/09/kopje-koffie-drinken_19-133729.jpg
END:VEVENT
BEGIN:VEVENT
DTSTART;TZID=Europe/Amsterdam:20260222T170000
DTEND;TZID=Europe/Amsterdam:20260222T180000
DTSTAMP:20260421T042240
CREATED:20260209T142602Z
LAST-MODIFIED:20260214T144213Z
UID:14457-1771779600-1771783200@maranathakerkdenhaag.nl
SUMMARY:Klassiek concert: viool en piano ...>
DESCRIPTION:Vanmiddag is er een klassiek concert in de Maranathakerk van 17 tot 18 uur. De toegang is vrij. Bij de uitgang wordt een collecte gehouden. Uitvoerenden zijn Romée Verbeeck Ghoos\, viool (foto) en Manuel Sanguino (foto onder). \nToelichting\nRomée Verbeeck Ghoos en Manuel Sanguino leerden elkaar vele jaren geleden kennen tijdens het Peter de Grote Festival. Ze bleven nauw contact houden\, en studeerden gelijktijdig aan het conservatorium van Amsterdam en daarna aan het conservatorium van Brussel. \n \nPROGRAMMA – Hartstocht en Melancholie\, een Europese reis \n\nA. Mozart Vioolsonate no. 21\, K. 304 in E mineur. \n\n\nAllegro\nTempo di Menuetto\n\n\n Granados ‘El amor y la muerte. Balada’ \n Grieg Vioolsonate no. 3 op. 45 in C mineur \n\n\nAllegro molto appassionato\nAllegretto espressivo alla Romanza\nAllegro animato — Con fuoco\n\nPROGRAMMATOELICHTING  \nWij starten de avond met de 21-ste vioolsonate in E mineur van de Oostenrijkse componist W.A. Mozart. Hij componeerde het werk in 1778 in Parijs\, in een periode van persoonlijke onzekerheid en verdriet: tijdens deze reis verloor Mozart zijn moeder\, wat kan verklaren waarom deze sonate in een mineurtoonsoort staat. Ook geeft de donkere klankkleur het stuk een ongewoon introspectief karakter. \nDe muziek is sober en helder\, maar onder die eenvoud schuilt een diepe melancholie. Viool en piano voeren een gelijkwaardig gesprek\, soms teder en vertrouwelijk\, dan weer gespannen en afstandelijk. Het tweede deel biedt geen uitbundige troost\, maar getuigt eerder van een breekbare lichtheid\, alsof de muziek voorzichtig probeert vooruit te kijken zonder het verdriet volledig los te laten. Juist deze kwetsbare balans tussen helderheid en emotionele diepte maakt deze sonate zo bijzonder — een intiem portret van Mozart op een moment waarop muziek meer lijkt te spreken dan woorden. \nVervolgens speelt Manuel een werk van de Spaanse componist Enrique Granados. El amor y la muerte (liefde en dood) behoort tot zijn meest indringende en persoonlijke werken. Het maakt deel uit van de cyclus Goyescas\, die geïnspireerd is op de schilderijen vol liefde\, passie en tragedie van Francisco Goya. In deze ballada komen die thema’s samen in een intense muzikale vertelling over liefde die onlosmakelijk verbonden raakt met verlies en dood. \nDe muziek ontvouwt zich als een innerlijke monoloog: teder en verlangend\, maar ook donker en wanhopig. Zachte\, bijna fluisterende momenten worden afgewisseld met uitbarstingen van emotie\, alsof herinneringen en gevoelens elkaar voortdurend overlappen. \nEr hangt een onontkoombaar gevoel van noodlot over Granados’ muziek. Liefde wordt hier niet geïdealiseerd\, maar getoond in haar meest kwetsbare vorm: intens\, allesomvattend en uiteindelijk vergankelijk. Dat maakt El amor y la muerte tot een diep ontroerend werk\, waarin passie en afscheid hand in hand gaan. \nTot slot spelen Romée en Manuel de derde vioolsonate van de Noorse componist Edward Grieg. Het werk ontstond in 1886\, in een periode waarin Grieg zich artistiek zeker voelde\, maar ook worstelde met zijn gezondheid en innerlijke onrust. Die spanningen geven de sonate een grote emotionele reikwijdte. \nVanaf de eerste maten klinkt een krachtige\, bijna strijdlustige toon\, afgewisseld met momenten van verstilling en lyrische warmte. Viool en piano bewegen zich voortdurend tussen drama en intimiteit\, alsof ze samen zoeken naar houvast. In de langzame delen overheerst een diepe\, melancholische zangerigheid\, terwijl de dansende elementen aan het einde iets onmiskenbaar hoopvols en bevrijdend hebben. \nGriegs Derde vioolsonate voelt als een doorleefd afscheid: bewogen\, hartstochtelijk en uiteindelijk verzoenend — een passend besluit na een middag waarin kwetsbaarheid en expressie centraal staan.
URL:https://maranathakerkdenhaag.nl/event/klassiek-concert-viool-en-piano/
CATEGORIES:Muziek
ATTACH;FMTTYPE=image/jpeg:https://maranathakerkdenhaag.nl/wp-content/uploads/2026/02/Romee-Verbeeck-Ghoos-e1771079970917.jpeg
END:VEVENT
BEGIN:VEVENT
DTSTART;TZID=Europe/Amsterdam:20260304T100000
DTEND;TZID=Europe/Amsterdam:20260304T120000
DTSTAMP:20260421T042240
CREATED:20260215T084842Z
LAST-MODIFIED:20260215T085023Z
UID:14468-1772618400-1772625600@maranathakerkdenhaag.nl
SUMMARY:Koffieconcert op woensdag ...>
DESCRIPTION:Elke eerste woensdag van de maand is er van 10 tot 12 uur in de Maranathakerk een koffieconcert. \nVanochtend treedt een muziekgroep op met een programma onder de titel ‘Jazzy Jazz en Bossa Standards’. \nUitvoerenden zijn Wim Vrijman\, Mario Mendes\, Aude de Leeuw en Eric Stegeman. \nAanmelden is niet nodig. De toegang is vrij. Er gaat een mandje rond voor een vrijwillige bijdrage.
URL:https://maranathakerkdenhaag.nl/event/koffieconcert-op-woensdag-6/
CATEGORIES:Muziek
ATTACH;FMTTYPE=image/jpeg:https://maranathakerkdenhaag.nl/wp-content/uploads/2016/09/kopje-koffie-drinken_19-133729.jpg
END:VEVENT
BEGIN:VEVENT
DTSTART;TZID=Europe/Amsterdam:20260329T170000
DTEND;TZID=Europe/Amsterdam:20260329T180000
DTSTAMP:20260421T042240
CREATED:20260315T121830Z
LAST-MODIFIED:20260323T200525Z
UID:14570-1774803600-1774807200@maranathakerkdenhaag.nl
SUMMARY:Klassiek concert: Hesce Mourits\, cello\, en Andries Bogerd\, orgel ...>
DESCRIPTION:Concert op de late zondagmiddag: Hesce Mourits\, cello\, en Andries Bogerd\, orgel. Op het programma staan sfeervolle werken als voorbereiding op Pasen. Het zijn composities van o.a. Fauré\, Rheinberger\, Bach. De toegang is vrij\, collecte bij de uitgang. \nHesce Mourits is celliste\, violiste en componiste. Ze heeft gestudeerd aan het Koninklijk Conservatorium in Den Haag.\nOrganist Andries Bogerd is de kerkmusicus van de Maranathakerk. Informatie: klik hier.\nZondag 29 maart\, 17-18 uur. Maranathakerk\, 2e Sweelinckstraat 156 Den Haag. Toegang vrij\, collecte bij de uitgang.
URL:https://maranathakerkdenhaag.nl/event/klassiek-concert-hesce-mourits-cello-en-andries-bogerd-orgel/
CATEGORIES:Muziek
ATTACH;FMTTYPE=image/jpeg:https://maranathakerkdenhaag.nl/wp-content/uploads/2026/03/Hesce-Mourits-Andries-Bogerd-scaled.jpg
END:VEVENT
BEGIN:VEVENT
DTSTART;TZID=Europe/Amsterdam:20260401T100000
DTEND;TZID=Europe/Amsterdam:20260401T120000
DTSTAMP:20260421T042240
CREATED:20260323T112527Z
LAST-MODIFIED:20260323T112527Z
UID:14606-1775037600-1775044800@maranathakerkdenhaag.nl
SUMMARY:Koffieconcert: piano vierhandig ...>
DESCRIPTION:Elke eerste woensdag van de maand is er ’s ochtends in de Maranathakerk een koffieconcert.\nVanochtend\, 1 april\, klinkt er pianomuziek. Niet minder dan zes pianisten en één violist treden op.\nDe pianisten vormen de Quatre Mains Groep ’s Gravenhage. Uitgevoerd worden werken van onder anderen Bach\, Mozart\, Schubert en Bennet.\nHet concert is van 10 tot 12 uur. Vanaf 9.30 uur is er inloop met koffie. De koffie (met koekje) en de muziek zijn gratis. Er gaat een mandje rond voor een vrijwillige bijdrage.\nLocatie: Maranathakerk\, 2e Sweelinckstraath 156. \n 
URL:https://maranathakerkdenhaag.nl/event/koffieconcert-piano-vierhandig/
CATEGORIES:Muziek
ATTACH;FMTTYPE=image/jpeg:https://maranathakerkdenhaag.nl/wp-content/uploads/2026/03/toetsen-vleugel.jpg
END:VEVENT
BEGIN:VEVENT
DTSTART;TZID=Europe/Amsterdam:20260506T100000
DTEND;TZID=Europe/Amsterdam:20260506T120000
DTSTAMP:20260421T042240
CREATED:20260405T171006Z
LAST-MODIFIED:20260406T095008Z
UID:14663-1778061600-1778068800@maranathakerkdenhaag.nl
SUMMARY:Koffieconcert 6 mei ...>
DESCRIPTION:Iedere eerste woensdag van de maand is er in de Maranathakerk een koffieconcert. Vanochtend komt het Haagse muziektrio ‘Fleur de salon’. Het trio\, onder leiding van Ernst Stolz\, speelt op viool\, piano\, contrabas en accordeon Weense salonmuziek\, muziek met een folkloristisch tintje en nostalgische melodieën.\nDe koffie (met koekje) en de muziek zijn gratis. Er gaat een mandje rond voor een vrijwillige bijdrage in de kosten.\nInloop: vanaf 9.30 uur. Het concert begint om 10 uur. Er zijn twee korte pauzes. Einde: ca. 12 uur.
URL:https://maranathakerkdenhaag.nl/event/koffieconcert-6-mei/
CATEGORIES:Muziek
ATTACH;FMTTYPE=image/jpeg:https://maranathakerkdenhaag.nl/wp-content/uploads/2026/04/Fleur-de-Salon.jpg
END:VEVENT
BEGIN:VEVENT
DTSTART;TZID=Europe/Amsterdam:20260603T100000
DTEND;TZID=Europe/Amsterdam:20260603T120000
DTSTAMP:20260421T042240
CREATED:20260415T160209Z
LAST-MODIFIED:20260415T160209Z
UID:14709-1780480800-1780488000@maranathakerkdenhaag.nl
SUMMARY:Koffieconcert: Die Haghe Operettespelers ..>
DESCRIPTION:Elke eerste woensdag van de maand is er in de Maranathakerk een koffieconcert. Vanochtend is er van 10 tot 12 uur een optreden van  ‘Die Haghe Operettespelers’. Ze brengen met zang en dans een vrolijk zomerprogramma van bekende operettemelodieën.\nInloop met koffie vanaf 09.30 uur. Het concert (met twee pauzes) duurt tot circa 12.00 uur.\nDe koffie (met koekje) is gratis. Er gaat een mandje rond voor een vrijwillige bijdrage. \nVolgend koffieconcert: 1 juli.
URL:https://maranathakerkdenhaag.nl/event/koffieconcert-die-haghe-operettespelers/
CATEGORIES:Muziek
ATTACH;FMTTYPE=image/jpeg:https://maranathakerkdenhaag.nl/wp-content/uploads/2026/04/Die-Haghe-Operettespelers.jpg
END:VEVENT
END:VCALENDAR