BEGIN:VCALENDAR
VERSION:2.0
PRODID:-//Maranathakerk Den Haag - ECPv6.15.13//NONSGML v1.0//EN
CALSCALE:GREGORIAN
METHOD:PUBLISH
X-WR-CALNAME:Maranathakerk Den Haag
X-ORIGINAL-URL:https://maranathakerkdenhaag.nl
X-WR-CALDESC:Evenementen voor Maranathakerk Den Haag
REFRESH-INTERVAL;VALUE=DURATION:PT1H
X-Robots-Tag:noindex
X-PUBLISHED-TTL:PT1H
BEGIN:VTIMEZONE
TZID:Europe/Amsterdam
BEGIN:DAYLIGHT
TZOFFSETFROM:+0100
TZOFFSETTO:+0200
TZNAME:CEST
DTSTART:20240331T010000
END:DAYLIGHT
BEGIN:STANDARD
TZOFFSETFROM:+0200
TZOFFSETTO:+0100
TZNAME:CET
DTSTART:20241027T010000
END:STANDARD
BEGIN:DAYLIGHT
TZOFFSETFROM:+0100
TZOFFSETTO:+0200
TZNAME:CEST
DTSTART:20250330T010000
END:DAYLIGHT
BEGIN:STANDARD
TZOFFSETFROM:+0200
TZOFFSETTO:+0100
TZNAME:CET
DTSTART:20251026T010000
END:STANDARD
BEGIN:DAYLIGHT
TZOFFSETFROM:+0100
TZOFFSETTO:+0200
TZNAME:CEST
DTSTART:20260329T010000
END:DAYLIGHT
BEGIN:STANDARD
TZOFFSETFROM:+0200
TZOFFSETTO:+0100
TZNAME:CET
DTSTART:20261025T010000
END:STANDARD
END:VTIMEZONE
BEGIN:VEVENT
DTSTART;TZID=Europe/Amsterdam:20251203T100000
DTEND;TZID=Europe/Amsterdam:20251203T120000
DTSTAMP:20260420T171219
CREATED:20251121T083958Z
LAST-MODIFIED:20251121T083958Z
UID:14260-1764756000-1764763200@maranathakerkdenhaag.nl
SUMMARY:Koffieconcert: muziek in Spaanse en Italiaanse sferen ...>
DESCRIPTION:Iedere eerste woensdag van de maand is er in de Maranathakerk een koffieconcert.\nVanochtend zijn de uitvoerenden Evelien Brandes\, sopraan\, Annette Sonnenberg\, alt\, en Leonardus Vailante\, piano. Ze brengen een gevarieerd Spaans-Italiaans programma. Toegang vrij. Er gaat een mandje rond voor een vrijwillige bijdrage.
URL:https://maranathakerkdenhaag.nl/event/koffieconcert-muziek-in-spaanse-en-italiaanse-sferen/
CATEGORIES:Muziek
ATTACH;FMTTYPE=image/jpeg:https://maranathakerkdenhaag.nl/wp-content/uploads/2025/11/Evelien-Brandes-piano.jpg
END:VEVENT
BEGIN:VEVENT
DTSTART;TZID=Europe/Amsterdam:20251203T193000
DTEND;TZID=Europe/Amsterdam:20251203T200000
DTSTAMP:20260420T171219
CREATED:20251125T145814Z
LAST-MODIFIED:20251125T145814Z
UID:14279-1764790200-1764792000@maranathakerkdenhaag.nl
SUMMARY:'Uitzien naar licht'\, vespers op alle woensdagen in Advent ...>
DESCRIPTION:‘Uitzien naar licht’\, kleine avonddiensten in de weken van Advent \nKom je niet altijd toe aan de kerkdiensten op zondagmorgen? Denk dan eens aan de kleine avonddiensten (vespers) in de weken van Advent op de woensdagen 3\, 10 en 17 december van 19.30 tot 20.00 uur in de Maranathakerk. \nDe viering van Kerst is vaak al voorbij voordat je het weet. Voorafgaand aan Kerst stil staan bij deze bijzondere tijd kan helpen. Even tot rust komen in de ruimte van de kerk\, muziek\, samen een psalm bidden\, zingen\, lezen en stil zijn. Welkom\, en een mooie\, goede\, inhoudsrijke Advent gewenst. \n  \n 
URL:https://maranathakerkdenhaag.nl/event/uitzien-naar-licht-vespers-op-alle-woensdagen-in-advent/
CATEGORIES:Muziek,Overig
ATTACH;FMTTYPE=image/jpeg:https://maranathakerkdenhaag.nl/wp-content/uploads/2021/11/adventskaars-MK.jpg
END:VEVENT
END:VCALENDAR