BEGIN:VCALENDAR
VERSION:2.0
PRODID:-//Maranathakerk Den Haag - ECPv6.15.13//NONSGML v1.0//EN
CALSCALE:GREGORIAN
METHOD:PUBLISH
X-WR-CALNAME:Maranathakerk Den Haag
X-ORIGINAL-URL:https://maranathakerkdenhaag.nl
X-WR-CALDESC:Evenementen voor Maranathakerk Den Haag
REFRESH-INTERVAL;VALUE=DURATION:PT1H
X-Robots-Tag:noindex
X-PUBLISHED-TTL:PT1H
BEGIN:VTIMEZONE
TZID:Europe/Amsterdam
BEGIN:DAYLIGHT
TZOFFSETFROM:+0100
TZOFFSETTO:+0200
TZNAME:CEST
DTSTART:20240331T010000
END:DAYLIGHT
BEGIN:STANDARD
TZOFFSETFROM:+0200
TZOFFSETTO:+0100
TZNAME:CET
DTSTART:20241027T010000
END:STANDARD
BEGIN:DAYLIGHT
TZOFFSETFROM:+0100
TZOFFSETTO:+0200
TZNAME:CEST
DTSTART:20250330T010000
END:DAYLIGHT
BEGIN:STANDARD
TZOFFSETFROM:+0200
TZOFFSETTO:+0100
TZNAME:CET
DTSTART:20251026T010000
END:STANDARD
BEGIN:DAYLIGHT
TZOFFSETFROM:+0100
TZOFFSETTO:+0200
TZNAME:CEST
DTSTART:20260329T010000
END:DAYLIGHT
BEGIN:STANDARD
TZOFFSETFROM:+0200
TZOFFSETTO:+0100
TZNAME:CET
DTSTART:20261025T010000
END:STANDARD
END:VTIMEZONE
BEGIN:VEVENT
DTSTART;TZID=Europe/Amsterdam:20251011T201500
DTEND;TZID=Europe/Amsterdam:20251011T220000
DTSTAMP:20260420T195152
CREATED:20251001T102316Z
LAST-MODIFIED:20251001T104640Z
UID:14183-1760213700-1760220000@maranathakerkdenhaag.nl
SUMMARY:Concert: kamerkoor Ilmatar: eerbetoon aan moederschap ...>
DESCRIPTION:Zaterdag geeft het kamerkoor Ilmatar een concert alos eerbetoon aan de kracht\, pijn en liefde van moederschap. \nVan jazzy wiegeliederen tot klassieke werken van MacMillan\, Verdi en Guerrera. \nMet medewerking van de celliste Willemijn Knödler. \nDirigent: Imre Ploeg. \nMaranathakerk\, zaterdag 11 oktober\, 20.15 uur. \nInfo en tickets: http://www.kamerkoor-ilmatar.nl \n(Foto: ‘Moeder en kind’\, Han Wezelaar) \n  \n  \n 
URL:https://maranathakerkdenhaag.nl/event/concert-kamerkoor-ilmatar-eerbetoon-aan-moederschap/
CATEGORIES:Muziek
ATTACH;FMTTYPE=image/jpeg:https://maranathakerkdenhaag.nl/wp-content/uploads/2025/10/Moeder-en-kind-Han-Wezelaar-e1759314152126.jpg
END:VEVENT
END:VCALENDAR