BEGIN:VCALENDAR
VERSION:2.0
PRODID:-//Maranathakerk Den Haag - ECPv6.15.13//NONSGML v1.0//EN
CALSCALE:GREGORIAN
METHOD:PUBLISH
X-ORIGINAL-URL:https://maranathakerkdenhaag.nl
X-WR-CALDESC:Evenementen voor Maranathakerk Den Haag
REFRESH-INTERVAL;VALUE=DURATION:PT1H
X-Robots-Tag:noindex
X-PUBLISHED-TTL:PT1H
BEGIN:VTIMEZONE
TZID:Europe/Amsterdam
BEGIN:DAYLIGHT
TZOFFSETFROM:+0100
TZOFFSETTO:+0200
TZNAME:CEST
DTSTART:20240331T010000
END:DAYLIGHT
BEGIN:STANDARD
TZOFFSETFROM:+0200
TZOFFSETTO:+0100
TZNAME:CET
DTSTART:20241027T010000
END:STANDARD
BEGIN:DAYLIGHT
TZOFFSETFROM:+0100
TZOFFSETTO:+0200
TZNAME:CEST
DTSTART:20250330T010000
END:DAYLIGHT
BEGIN:STANDARD
TZOFFSETFROM:+0200
TZOFFSETTO:+0100
TZNAME:CET
DTSTART:20251026T010000
END:STANDARD
BEGIN:DAYLIGHT
TZOFFSETFROM:+0100
TZOFFSETTO:+0200
TZNAME:CEST
DTSTART:20260329T010000
END:DAYLIGHT
BEGIN:STANDARD
TZOFFSETFROM:+0200
TZOFFSETTO:+0100
TZNAME:CET
DTSTART:20261025T010000
END:STANDARD
END:VTIMEZONE
BEGIN:VEVENT
DTSTART;TZID=Europe/Amsterdam:20250427T170000
DTEND;TZID=Europe/Amsterdam:20250427T180000
DTSTAMP:20260421T052722
CREATED:20250418T165444Z
LAST-MODIFIED:20250423T105418Z
UID:13809-1745773200-1745776800@maranathakerkdenhaag.nl
SUMMARY:Koningsconcert: orgel met sopraan ...>
DESCRIPTION:Zondagmiddag 27 april is er in de Maranathakerk een klassiek concert te beluisteren.\nAndries Bogerd\, organist van de Maranathakerk\, bespeelt het Mense Ruiterorgel.\nHij begeleidt de sopraan Vanessa Guinadi. \nHet programma vermeldt werken van Bach\, Vivaldi\, Handel\, Purcell\, Mozart\, Walther en Post. \nZondag 27 april\, 17-18 uur.\nDe toegang is gratis. Bij de uitgang wordt een collecte gehouden. \n 
URL:https://maranathakerkdenhaag.nl/event/koningsconcert-orgel-met-sopraan/
CATEGORIES:Muziek
ATTACH;FMTTYPE=image/jpeg:https://maranathakerkdenhaag.nl/wp-content/uploads/2025/04/Vanessa-Guinadi-Headshot-e1744995266620.jpg
END:VEVENT
END:VCALENDAR