BEGIN:VCALENDAR
VERSION:2.0
PRODID:-//Maranathakerk Den Haag - ECPv6.15.13//NONSGML v1.0//EN
CALSCALE:GREGORIAN
METHOD:PUBLISH
X-ORIGINAL-URL:https://maranathakerkdenhaag.nl
X-WR-CALDESC:Evenementen voor Maranathakerk Den Haag
REFRESH-INTERVAL;VALUE=DURATION:PT1H
X-Robots-Tag:noindex
X-PUBLISHED-TTL:PT1H
BEGIN:VTIMEZONE
TZID:Europe/Amsterdam
BEGIN:DAYLIGHT
TZOFFSETFROM:+0100
TZOFFSETTO:+0200
TZNAME:CEST
DTSTART:20240331T010000
END:DAYLIGHT
BEGIN:STANDARD
TZOFFSETFROM:+0200
TZOFFSETTO:+0100
TZNAME:CET
DTSTART:20241027T010000
END:STANDARD
BEGIN:DAYLIGHT
TZOFFSETFROM:+0100
TZOFFSETTO:+0200
TZNAME:CEST
DTSTART:20250330T010000
END:DAYLIGHT
BEGIN:STANDARD
TZOFFSETFROM:+0200
TZOFFSETTO:+0100
TZNAME:CET
DTSTART:20251026T010000
END:STANDARD
BEGIN:DAYLIGHT
TZOFFSETFROM:+0100
TZOFFSETTO:+0200
TZNAME:CEST
DTSTART:20260329T010000
END:DAYLIGHT
BEGIN:STANDARD
TZOFFSETFROM:+0200
TZOFFSETTO:+0100
TZNAME:CET
DTSTART:20261025T010000
END:STANDARD
END:VTIMEZONE
BEGIN:VEVENT
DTSTART;TZID=Europe/Amsterdam:20250402T100000
DTEND;TZID=Europe/Amsterdam:20250402T120000
DTSTAMP:20260421T052728
CREATED:20250317T174622Z
LAST-MODIFIED:20250317T174622Z
UID:13741-1743588000-1743595200@maranathakerkdenhaag.nl
SUMMARY:Koffieconcert: René Rakier\, piano ...>
DESCRIPTION:Elke eerste woensdagochtend van de maand is er in de Maranathakerk een koffieconcert. Tijd: van 10 tot 12 uur.\nVanochtend komt René Rakier uit Scheveningen\, gelauwerd concertpianist en componist gedurende vele decennia. Hij speelt op de vleugel van de Maranathakerk klassieke werken van onder andere Bach\, Mozart en Dvorak.\nDe toegang is vrij. Er gaat een mandje rond voor een vrijwillige bijdrage.
URL:https://maranathakerkdenhaag.nl/event/koffieconcert-rene-rakier-piano/
CATEGORIES:Muziek
ATTACH;FMTTYPE=image/jpeg:https://maranathakerkdenhaag.nl/wp-content/uploads/2023/07/Rene-Rakier-e1689748198127.jpg
END:VEVENT
END:VCALENDAR