BEGIN:VCALENDAR
VERSION:2.0
PRODID:-//Maranathakerk Den Haag - ECPv6.15.13//NONSGML v1.0//EN
CALSCALE:GREGORIAN
METHOD:PUBLISH
X-WR-CALNAME:Maranathakerk Den Haag
X-ORIGINAL-URL:https://maranathakerkdenhaag.nl
X-WR-CALDESC:Evenementen voor Maranathakerk Den Haag
REFRESH-INTERVAL;VALUE=DURATION:PT1H
X-Robots-Tag:noindex
X-PUBLISHED-TTL:PT1H
BEGIN:VTIMEZONE
TZID:Europe/Amsterdam
BEGIN:DAYLIGHT
TZOFFSETFROM:+0100
TZOFFSETTO:+0200
TZNAME:CEST
DTSTART:20230326T010000
END:DAYLIGHT
BEGIN:STANDARD
TZOFFSETFROM:+0200
TZOFFSETTO:+0100
TZNAME:CET
DTSTART:20231029T010000
END:STANDARD
BEGIN:DAYLIGHT
TZOFFSETFROM:+0100
TZOFFSETTO:+0200
TZNAME:CEST
DTSTART:20240331T010000
END:DAYLIGHT
BEGIN:STANDARD
TZOFFSETFROM:+0200
TZOFFSETTO:+0100
TZNAME:CET
DTSTART:20241027T010000
END:STANDARD
BEGIN:DAYLIGHT
TZOFFSETFROM:+0100
TZOFFSETTO:+0200
TZNAME:CEST
DTSTART:20250330T010000
END:DAYLIGHT
BEGIN:STANDARD
TZOFFSETFROM:+0200
TZOFFSETTO:+0100
TZNAME:CET
DTSTART:20251026T010000
END:STANDARD
END:VTIMEZONE
BEGIN:VEVENT
DTSTART;TZID=Europe/Amsterdam:20241204T100000
DTEND;TZID=Europe/Amsterdam:20241204T120000
DTSTAMP:20260421T105701
CREATED:20241114T180716Z
LAST-MODIFIED:20241114T180716Z
UID:13429-1733306400-1733313600@maranathakerkdenhaag.nl
SUMMARY:Koffieconcert: Cabaret 2Vliegen ...>
DESCRIPTION:Vanochtend is er weer een koffieconcert in de Maranathakerk. Van 10 tot 12 uur. \nEr is een optreden van het cabaretduo 2Vliegen. Greetje Jansen en Hilda ter Laak brengen een programma met liedjes\, gedichten en conferences uit hun voorstelling ‘Nooit genoeg’ over duurzaamheid\, dilemma’s en het dagelijks leven. \nToegang (en koffie) vrij. Er gaat een mandje rond voor een vrijwillige bijdrage. \n  \n 
URL:https://maranathakerkdenhaag.nl/event/koffieconcert-cabaret-2vliegen/
CATEGORIES:Muziek
ATTACH;FMTTYPE=image/png:https://maranathakerkdenhaag.nl/wp-content/uploads/2024/11/Cabaret-2-Vliegen.png
END:VEVENT
END:VCALENDAR