BEGIN:VCALENDAR
VERSION:2.0
PRODID:-//Maranathakerk Den Haag - ECPv6.15.13//NONSGML v1.0//EN
CALSCALE:GREGORIAN
METHOD:PUBLISH
X-ORIGINAL-URL:https://maranathakerkdenhaag.nl
X-WR-CALDESC:Evenementen voor Maranathakerk Den Haag
REFRESH-INTERVAL;VALUE=DURATION:PT1H
X-Robots-Tag:noindex
X-PUBLISHED-TTL:PT1H
BEGIN:VTIMEZONE
TZID:Europe/Amsterdam
BEGIN:DAYLIGHT
TZOFFSETFROM:+0100
TZOFFSETTO:+0200
TZNAME:CEST
DTSTART:20220327T010000
END:DAYLIGHT
BEGIN:STANDARD
TZOFFSETFROM:+0200
TZOFFSETTO:+0100
TZNAME:CET
DTSTART:20221030T010000
END:STANDARD
BEGIN:DAYLIGHT
TZOFFSETFROM:+0100
TZOFFSETTO:+0200
TZNAME:CEST
DTSTART:20230326T010000
END:DAYLIGHT
BEGIN:STANDARD
TZOFFSETFROM:+0200
TZOFFSETTO:+0100
TZNAME:CET
DTSTART:20231029T010000
END:STANDARD
BEGIN:DAYLIGHT
TZOFFSETFROM:+0100
TZOFFSETTO:+0200
TZNAME:CEST
DTSTART:20240331T010000
END:DAYLIGHT
BEGIN:STANDARD
TZOFFSETFROM:+0200
TZOFFSETTO:+0100
TZNAME:CET
DTSTART:20241027T010000
END:STANDARD
END:VTIMEZONE
BEGIN:VEVENT
DTSTART;TZID=Europe/Amsterdam:20231029T170000
DTEND;TZID=Europe/Amsterdam:20231029T180000
DTSTAMP:20260422T124725
CREATED:20230910T142353Z
LAST-MODIFIED:20230918T070425Z
UID:12241-1698598800-1698602400@maranathakerkdenhaag.nl
SUMMARY:Klassiek concert: Haydn\, Schumann\, Bridge ...>
DESCRIPTION:In de serie maandelijkse concerten op de late zondagmiddag vanmiddaq een optreden van het Haagse pianotrio ‘Allegretto’.\nHet bestaat uit: Reinbert Hamstra\, piano\, Thomas Patijn\, viool\, Jan Dirk Gerritsen\, violoncello. \nProgramma \nJoseph Haydn\, Pianotrio in D majeur Hob. XV:16\nAllegro\nAndantino più tosto allegretto\nVivace assai \nRobert Schumann\,  Fantasiestücke op.88\nRomance\, Nicht schnell\, mit innigem Ausdruck\nHumoresk\, Lebhaft\nDuett. Langsam und mit Ausdruck\nFinale im Marschtempo \nFrank Bridge\, enkele miniatures for pianotrio: (H87-89)
URL:https://maranathakerkdenhaag.nl/event/klassiek-concert-haydn-schumann-bridge/
CATEGORIES:Muziek
ATTACH;FMTTYPE=image/jpeg:https://maranathakerkdenhaag.nl/wp-content/uploads/2023/09/Thomas-Patijn-met-trio-e1695020958787.jpg
END:VEVENT
END:VCALENDAR