BEGIN:VCALENDAR
VERSION:2.0
PRODID:-//Maranathakerk Den Haag - ECPv6.15.13//NONSGML v1.0//EN
CALSCALE:GREGORIAN
METHOD:PUBLISH
X-ORIGINAL-URL:https://maranathakerkdenhaag.nl
X-WR-CALDESC:Evenementen voor Maranathakerk Den Haag
REFRESH-INTERVAL;VALUE=DURATION:PT1H
X-Robots-Tag:noindex
X-PUBLISHED-TTL:PT1H
BEGIN:VTIMEZONE
TZID:Europe/Amsterdam
BEGIN:DAYLIGHT
TZOFFSETFROM:+0100
TZOFFSETTO:+0200
TZNAME:CEST
DTSTART:20240331T010000
END:DAYLIGHT
BEGIN:STANDARD
TZOFFSETFROM:+0200
TZOFFSETTO:+0100
TZNAME:CET
DTSTART:20241027T010000
END:STANDARD
BEGIN:DAYLIGHT
TZOFFSETFROM:+0100
TZOFFSETTO:+0200
TZNAME:CEST
DTSTART:20250330T010000
END:DAYLIGHT
BEGIN:STANDARD
TZOFFSETFROM:+0200
TZOFFSETTO:+0100
TZNAME:CET
DTSTART:20251026T010000
END:STANDARD
BEGIN:DAYLIGHT
TZOFFSETFROM:+0100
TZOFFSETTO:+0200
TZNAME:CEST
DTSTART:20260329T010000
END:DAYLIGHT
BEGIN:STANDARD
TZOFFSETFROM:+0200
TZOFFSETTO:+0100
TZNAME:CET
DTSTART:20261025T010000
END:STANDARD
END:VTIMEZONE
BEGIN:VEVENT
DTSTART;TZID=Europe/Amsterdam:20250910T103000
DTEND;TZID=Europe/Amsterdam:20250910T113000
DTSTAMP:20260420T195149
CREATED:20250903T054109Z
LAST-MODIFIED:20250903T054109Z
UID:14134-1757500200-1757503800@maranathakerkdenhaag.nl
SUMMARY:Elke woensdag koffieochtend ...>
DESCRIPTION:Trek in een bakkie? Kom op woensdagochtend koffiedrinken in de Maranathakerk. Van 10 tot 12 uur staat de tuinzaal open. Wel even aanbellen bij de voordeur. De koffie (met een koekje) is gratis.\nOp elke eerste woensdag van de maand is er een koffieconcert met levende muziek. Voor het programma: zie deze Agenda.
URL:https://maranathakerkdenhaag.nl/event/elke-woensdag-koffieochtend/
CATEGORIES:Muziek
ATTACH;FMTTYPE=image/jpeg:https://maranathakerkdenhaag.nl/wp-content/uploads/2016/09/kopje-koffie-drinken_19-133729.jpg
END:VEVENT
BEGIN:VEVENT
DTSTART;TZID=Europe/Amsterdam:20250928T170000
DTEND;TZID=Europe/Amsterdam:20250928T180000
DTSTAMP:20260420T195149
CREATED:20250903T053537Z
LAST-MODIFIED:20250903T053551Z
UID:14131-1759078800-1759082400@maranathakerkdenhaag.nl
SUMMARY:Concert: koor Chavanon met 'Keltische zang' ...>
DESCRIPTION:Het Haags kamerkoor ‘Chavanon’ geeft vanmiddag een concert. Het programma vermeldt: ‘Keltische geluiden\, liederen uit Schotland en Ierland.’ Dirigent is Peter van der Leeuw. De toegang is vrij\, bij de uitgang wordt een collecte gehouden. Er kunnen geen kaarten worden gereserveerd. \n[Concerten van de Maranathakerk zijn altijd op de late zondagmiddag\, tussen 17 en 18 uur. Dat blijkt een gunstig tijdstip. Na een ontspannende middag kunt u voor het diner nog genieten van een muzikaal voorafje.]
URL:https://maranathakerkdenhaag.nl/event/concert-koor-chavanon-met-keltische-zang/
CATEGORIES:Muziek
ATTACH;FMTTYPE=image/jpeg:https://maranathakerkdenhaag.nl/wp-content/uploads/2024/11/Chavanon-koor-in-Moyaux-Normandie-augustus-2019-scaled.jpg
END:VEVENT
END:VCALENDAR