BEGIN:VCALENDAR
VERSION:2.0
PRODID:-//Maranathakerk Den Haag - ECPv6.15.13//NONSGML v1.0//EN
CALSCALE:GREGORIAN
METHOD:PUBLISH
X-WR-CALNAME:Maranathakerk Den Haag
X-ORIGINAL-URL:https://maranathakerkdenhaag.nl
X-WR-CALDESC:Evenementen voor Maranathakerk Den Haag
REFRESH-INTERVAL;VALUE=DURATION:PT1H
X-Robots-Tag:noindex
X-PUBLISHED-TTL:PT1H
BEGIN:VTIMEZONE
TZID:Europe/Amsterdam
BEGIN:DAYLIGHT
TZOFFSETFROM:+0100
TZOFFSETTO:+0200
TZNAME:CEST
DTSTART:20230326T010000
END:DAYLIGHT
BEGIN:STANDARD
TZOFFSETFROM:+0200
TZOFFSETTO:+0100
TZNAME:CET
DTSTART:20231029T010000
END:STANDARD
BEGIN:DAYLIGHT
TZOFFSETFROM:+0100
TZOFFSETTO:+0200
TZNAME:CEST
DTSTART:20240331T010000
END:DAYLIGHT
BEGIN:STANDARD
TZOFFSETFROM:+0200
TZOFFSETTO:+0100
TZNAME:CET
DTSTART:20241027T010000
END:STANDARD
BEGIN:DAYLIGHT
TZOFFSETFROM:+0100
TZOFFSETTO:+0200
TZNAME:CEST
DTSTART:20250330T010000
END:DAYLIGHT
BEGIN:STANDARD
TZOFFSETFROM:+0200
TZOFFSETTO:+0100
TZNAME:CET
DTSTART:20251026T010000
END:STANDARD
END:VTIMEZONE
BEGIN:VEVENT
DTSTART;TZID=Europe/Amsterdam:20240306T100000
DTEND;TZID=Europe/Amsterdam:20240306T120000
DTSTAMP:20260422T043359
CREATED:20240118T081109Z
LAST-MODIFIED:20240209T080520Z
UID:12679-1709719200-1709726400@maranathakerkdenhaag.nl
SUMMARY:Koffieconcert 6 maart ...>
DESCRIPTION:Vanochtend is er van 10 tot 12 uur een koffieconcert in de Maranathakerk.\nHet duo “Pur Sang” speelt klassieke en licht klassieke werken.\nUitvoerenden zijn Imme Tonkes\, viool\, en Jorina van Bergen\, piano.\nDe toegang is vrij en de koffie (met koekje) is gratis.\nEr gaat een mandje rond voor een vrijwillige bijdrage.
URL:https://maranathakerkdenhaag.nl/event/koffieconcert-6-maart/
CATEGORIES:Muziek
ATTACH;FMTTYPE=image/jpeg:https://maranathakerkdenhaag.nl/wp-content/uploads/2024/01/Jorina-van-Bergen-ensemble-febr-2024.jpg
END:VEVENT
END:VCALENDAR