BEGIN:VCALENDAR
VERSION:2.0
PRODID:-//Maranathakerk Den Haag - ECPv6.15.13//NONSGML v1.0//EN
CALSCALE:GREGORIAN
METHOD:PUBLISH
X-WR-CALNAME:Maranathakerk Den Haag
X-ORIGINAL-URL:https://maranathakerkdenhaag.nl
X-WR-CALDESC:Evenementen voor Maranathakerk Den Haag
REFRESH-INTERVAL;VALUE=DURATION:PT1H
X-Robots-Tag:noindex
X-PUBLISHED-TTL:PT1H
BEGIN:VTIMEZONE
TZID:Europe/Amsterdam
BEGIN:DAYLIGHT
TZOFFSETFROM:+0100
TZOFFSETTO:+0200
TZNAME:CEST
DTSTART:20220327T010000
END:DAYLIGHT
BEGIN:STANDARD
TZOFFSETFROM:+0200
TZOFFSETTO:+0100
TZNAME:CET
DTSTART:20221030T010000
END:STANDARD
BEGIN:DAYLIGHT
TZOFFSETFROM:+0100
TZOFFSETTO:+0200
TZNAME:CEST
DTSTART:20230326T010000
END:DAYLIGHT
BEGIN:STANDARD
TZOFFSETFROM:+0200
TZOFFSETTO:+0100
TZNAME:CET
DTSTART:20231029T010000
END:STANDARD
BEGIN:DAYLIGHT
TZOFFSETFROM:+0100
TZOFFSETTO:+0200
TZNAME:CEST
DTSTART:20240331T010000
END:DAYLIGHT
BEGIN:STANDARD
TZOFFSETFROM:+0200
TZOFFSETTO:+0100
TZNAME:CET
DTSTART:20241027T010000
END:STANDARD
END:VTIMEZONE
BEGIN:VEVENT
DTSTART;TZID=Europe/Amsterdam:20231101T100000
DTEND;TZID=Europe/Amsterdam:20231101T120000
DTSTAMP:20260422T095731
CREATED:20231031T074533Z
LAST-MODIFIED:20231031T184513Z
UID:12379-1698832800-1698840000@maranathakerkdenhaag.nl
SUMMARY:Koffieconcert ...>
DESCRIPTION:Vanochtend is de Maranathakerk geopend voor koffie met muziek.\nHet Haagse ensemble ‘The Musical Friends’ treedt op met een programma van licht klassieke muziek.\nToegang en koffie zijn gratis. \n 
URL:https://maranathakerkdenhaag.nl/event/koffieconcert/
CATEGORIES:Muziek
ATTACH;FMTTYPE=image/jpeg:https://maranathakerkdenhaag.nl/wp-content/uploads/2016/09/kopje-koffie-drinken_19-133729.jpg
END:VEVENT
BEGIN:VEVENT
DTSTART;TZID=Europe/Amsterdam:20231119T170000
DTEND;TZID=Europe/Amsterdam:20231119T180000
DTSTAMP:20260422T095731
CREATED:20231113T085446Z
LAST-MODIFIED:20231113T085446Z
UID:12413-1700413200-1700416800@maranathakerkdenhaag.nl
SUMMARY:Concert: Amsterdamse Cantorij zingt Engelse koormuziek ...>
DESCRIPTION:Uitvoering befaamde Verse Anthems met Amsterdamse Cantorij en gamba’s \nDe Amsterdamse Cantorij en het Haagse gezelschap The Spirit of Gambo geven in de Maranathakerk een concert. Ze voeren de Verse Anthems uit\, nieuwe werken uit het begin van de zeventiende eeuw en afgestemd op de smaak van koning James VI. \nDelen van de tekst worden afwisselend door een kleinere groep en door het hele koor gezongen. Ze worden begeleid door vijf gamba’s. De muziek kenmerkt zich door sierlijk door elkaar heen wevende\, lange lijnen. Door de steeds wisselende bezetting blijft de muziek voor de luisteraar verrassend. De Verse Anthems\, geestelijke muziek\, hebben ook de wereldlijke muziek beïnvloed. Ook daarvan worden enkele stukken uitgevoerd. \nDe Amsterdamse Cantorij\, een groot kamerkoor van dertig leden\, staat onder leiding van Felix van den Homberg. Dirigent van The Spirit of Gambo is Freek Borstlap. \nZondag 19 november\, 17-18 uur. Toegang vrij\, collecte bij de uitgang. Er kunnen geen plaatsen worden gereserveerd. Plaats genoeg!
URL:https://maranathakerkdenhaag.nl/event/concert-amsterdamse-cantorij-zingt-engelse-koormuziek/
CATEGORIES:Muziek
ATTACH;FMTTYPE=image/jpeg:https://maranathakerkdenhaag.nl/wp-content/uploads/2023/11/Amsterdamse-Cantorij.jpg
END:VEVENT
END:VCALENDAR