BEGIN:VCALENDAR
VERSION:2.0
PRODID:-//Maranathakerk Den Haag - ECPv6.15.13//NONSGML v1.0//EN
CALSCALE:GREGORIAN
METHOD:PUBLISH
X-WR-CALNAME:Maranathakerk Den Haag
X-ORIGINAL-URL:https://maranathakerkdenhaag.nl
X-WR-CALDESC:Evenementen voor Maranathakerk Den Haag
REFRESH-INTERVAL;VALUE=DURATION:PT1H
X-Robots-Tag:noindex
X-PUBLISHED-TTL:PT1H
BEGIN:VTIMEZONE
TZID:Europe/Amsterdam
BEGIN:DAYLIGHT
TZOFFSETFROM:+0100
TZOFFSETTO:+0200
TZNAME:CEST
DTSTART:20220327T010000
END:DAYLIGHT
BEGIN:STANDARD
TZOFFSETFROM:+0200
TZOFFSETTO:+0100
TZNAME:CET
DTSTART:20221030T010000
END:STANDARD
BEGIN:DAYLIGHT
TZOFFSETFROM:+0100
TZOFFSETTO:+0200
TZNAME:CEST
DTSTART:20230326T010000
END:DAYLIGHT
BEGIN:STANDARD
TZOFFSETFROM:+0200
TZOFFSETTO:+0100
TZNAME:CET
DTSTART:20231029T010000
END:STANDARD
BEGIN:DAYLIGHT
TZOFFSETFROM:+0100
TZOFFSETTO:+0200
TZNAME:CEST
DTSTART:20240331T010000
END:DAYLIGHT
BEGIN:STANDARD
TZOFFSETFROM:+0200
TZOFFSETTO:+0100
TZNAME:CET
DTSTART:20241027T010000
END:STANDARD
END:VTIMEZONE
BEGIN:VEVENT
DTSTART;TZID=Europe/Amsterdam:20230503T100000
DTEND;TZID=Europe/Amsterdam:20230503T120000
DTSTAMP:20260422T191305
CREATED:20230420T091611Z
LAST-MODIFIED:20230421T080943Z
UID:11869-1683108000-1683115200@maranathakerkdenhaag.nl
SUMMARY:Koffieconcert op woensdag ...>
DESCRIPTION:Elke woensdag is de Maranathakerk open voor een koffieochtend.\nElke eerste woensdag van de maand is er een koffieconcert in informele sfeer. Solisten\, ensembles\, zangers/zangeressen\, pianisten enz. De stijl is gevarieerd: van klassiek tot meezingers\, en van chansons tot jazz.\nWoensdag 3 mei: Loes van Hemert (piano) en Angela Duncan (dwarsfluit) treden op met een gevarieerd programma van licht klassiek tot jazzy.\nToegang en koffie zijn gratis. Er gaat een mandje rond voor een vrijwillige bijdrage.
URL:https://maranathakerkdenhaag.nl/event/koffieconcert-op-woensdag-3/
CATEGORIES:Muziek
ATTACH;FMTTYPE=image/jpeg:https://maranathakerkdenhaag.nl/wp-content/uploads/2023/04/Loes-en-Angelo-Koffieconcert-e1682064567303.jpg
END:VEVENT
BEGIN:VEVENT
DTSTART;TZID=Europe/Amsterdam:20230521T170000
DTEND;TZID=Europe/Amsterdam:20230521T180000
DTSTAMP:20260422T191305
CREATED:20230512T074013Z
LAST-MODIFIED:20230512T074013Z
UID:11935-1684688400-1684692000@maranathakerkdenhaag.nl
SUMMARY:Concert: barok uit Zuid-Amerika ...>
DESCRIPTION:De Europese barokstijl heeft vanaf de koloniale tijd ook sporen nagelaten in Latijns-Amerika. Het Ensemble Suspirium brengt muziek uit steden als Mexico en Lima\, kerkelijke en wereldlijke muziek. Deze culturele beïnvloeding is wederzijds geweest. Elementen uit muziek van de Inca-cultuur heeft ook weer haar weg naar Europa gevonden.\nDe musici zijn Iris Bouman\, zang\, Mengh Han Wu\, barokviool\, Gala Lozynska\, barokcello (foto)\, Punto Bawono\, barokgitaar\, Francesco Lormans\, percussie. \nZondag 21 mei\, 17-18 uur. Toegang vrij\, collecte bij de uitgang.
URL:https://maranathakerkdenhaag.nl/event/concert-barok-uit-zuid-amerika/
CATEGORIES:Muziek
ATTACH;FMTTYPE=image/jpeg:https://maranathakerkdenhaag.nl/wp-content/uploads/2023/05/Gala-Lozynska-e1683877191518.jpg
END:VEVENT
END:VCALENDAR