BEGIN:VCALENDAR
VERSION:2.0
PRODID:-//Maranathakerk Den Haag - ECPv6.15.13//NONSGML v1.0//EN
CALSCALE:GREGORIAN
METHOD:PUBLISH
X-ORIGINAL-URL:https://maranathakerkdenhaag.nl
X-WR-CALDESC:Evenementen voor Maranathakerk Den Haag
REFRESH-INTERVAL;VALUE=DURATION:PT1H
X-Robots-Tag:noindex
X-PUBLISHED-TTL:PT1H
BEGIN:VTIMEZONE
TZID:Europe/Amsterdam
BEGIN:DAYLIGHT
TZOFFSETFROM:+0100
TZOFFSETTO:+0200
TZNAME:CEST
DTSTART:20240331T010000
END:DAYLIGHT
BEGIN:STANDARD
TZOFFSETFROM:+0200
TZOFFSETTO:+0100
TZNAME:CET
DTSTART:20241027T010000
END:STANDARD
BEGIN:DAYLIGHT
TZOFFSETFROM:+0100
TZOFFSETTO:+0200
TZNAME:CEST
DTSTART:20250330T010000
END:DAYLIGHT
BEGIN:STANDARD
TZOFFSETFROM:+0200
TZOFFSETTO:+0100
TZNAME:CET
DTSTART:20251026T010000
END:STANDARD
BEGIN:DAYLIGHT
TZOFFSETFROM:+0100
TZOFFSETTO:+0200
TZNAME:CEST
DTSTART:20260329T010000
END:DAYLIGHT
BEGIN:STANDARD
TZOFFSETFROM:+0200
TZOFFSETTO:+0100
TZNAME:CET
DTSTART:20261025T010000
END:STANDARD
END:VTIMEZONE
BEGIN:VEVENT
DTSTART;TZID=Europe/Amsterdam:20250910T180000
DTEND;TZID=Europe/Amsterdam:20250910T193000
DTSTAMP:20260423T034629
CREATED:20250903T052829Z
LAST-MODIFIED:20250903T052829Z
UID:14128-1757527200-1757532600@maranathakerkdenhaag.nl
SUMMARY:Diner voor een vriendenprijs ...>
DESCRIPTION:Geen zin om zelf te koken? Kom eten in de Maranathakerk! Elke maand is er op woensdagavond een smakelijk diner voor een vriendenprijs\, onze ‘gemeentemaaltijd’. Iedereen is welkom. Aanmelden: stuur een e-mail aan: frouckje@gmail.com. Of schrijf uw naam op de intekenlijst in de hal van de kerk.\nGemeentemaaltijd\, woensdag 10 september. Inloop met een drankje vanaf 17 uur\, aan tafel 18 uur. Einde 19.30 uur. Kosten € 5 (graag contante betaling).
URL:https://maranathakerkdenhaag.nl/event/diner-voor-een-vriendenprijs/
CATEGORIES:Eten & Drinken
ATTACH;FMTTYPE=image/jpeg:https://maranathakerkdenhaag.nl/wp-content/uploads/2018/10/Gem-maaltijd-toetje.jpg
END:VEVENT
END:VCALENDAR