BEGIN:VCALENDAR
VERSION:2.0
PRODID:-//Maranathakerk Den Haag - ECPv6.15.13//NONSGML v1.0//EN
CALSCALE:GREGORIAN
METHOD:PUBLISH
X-WR-CALNAME:Maranathakerk Den Haag
X-ORIGINAL-URL:https://maranathakerkdenhaag.nl
X-WR-CALDESC:Evenementen voor Maranathakerk Den Haag
REFRESH-INTERVAL;VALUE=DURATION:PT1H
X-Robots-Tag:noindex
X-PUBLISHED-TTL:PT1H
BEGIN:VTIMEZONE
TZID:Europe/Amsterdam
BEGIN:DAYLIGHT
TZOFFSETFROM:+0100
TZOFFSETTO:+0200
TZNAME:CEST
DTSTART:20250330T010000
END:DAYLIGHT
BEGIN:STANDARD
TZOFFSETFROM:+0200
TZOFFSETTO:+0100
TZNAME:CET
DTSTART:20251026T010000
END:STANDARD
BEGIN:DAYLIGHT
TZOFFSETFROM:+0100
TZOFFSETTO:+0200
TZNAME:CEST
DTSTART:20260329T010000
END:DAYLIGHT
BEGIN:STANDARD
TZOFFSETFROM:+0200
TZOFFSETTO:+0100
TZNAME:CET
DTSTART:20261025T010000
END:STANDARD
BEGIN:DAYLIGHT
TZOFFSETFROM:+0100
TZOFFSETTO:+0200
TZNAME:CEST
DTSTART:20270328T010000
END:DAYLIGHT
BEGIN:STANDARD
TZOFFSETFROM:+0200
TZOFFSETTO:+0100
TZNAME:CET
DTSTART:20271031T010000
END:STANDARD
END:VTIMEZONE
BEGIN:VEVENT
DTSTART;TZID=Europe/Amsterdam:20260325T193000
DTEND;TZID=Europe/Amsterdam:20260325T200000
DTSTAMP:20260422T133754
CREATED:20260215T153813Z
LAST-MODIFIED:20260215T153813Z
UID:14484-1774467000-1774468800@maranathakerkdenhaag.nl
SUMMARY:Vespers voor Pasen op woensdagavond ...>
DESCRIPTION:Kleine avonddiensten in de weken voor Pasen \nKom je niet altijd toe aan de kerkdiensten op zondagmorgen? Denk dan eens aan de kleine\, intieme avonddiensten (vespers) in de weken voor Pasen\, op de woensdagen 25 februari\, 4\, 11\, 18\, 25 maart\, 1 april. Van 19.30 tot 20.00 uur in de Maranathakerk. \nEven tot rust komen in de ruimte van de kerk. Naar muziek luisteren\, samen een psalm bidden\, enkele liederen zingen\, een bijbelgedeelte lezen\, stil zijn. \nWelkom! Een mooie\, goede\, aandachtige veertigdagentijd tot Pasen gewenst.
URL:https://maranathakerkdenhaag.nl/event/vespers-voor-pasen-op-woensdagavond-3/
CATEGORIES:Overig
ATTACH;FMTTYPE=image/jpeg:https://maranathakerkdenhaag.nl/wp-content/uploads/2016/04/waxinelichtje-300x300.jpg
END:VEVENT
BEGIN:VEVENT
DTSTART;TZID=Europe/Amsterdam:20260325T200000
DTEND;TZID=Europe/Amsterdam:20260325T220000
DTSTAMP:20260422T133754
CREATED:20260318T125053Z
LAST-MODIFIED:20260318T125053Z
UID:14583-1774468800-1774476000@maranathakerkdenhaag.nl
SUMMARY:Lezing over yoga ...>
DESCRIPTION:Cécile de Munnik uit Den Haag geeft vanavond een informatieve lezing over nut\, achtergronden en praktijk van yoga. Ze volgde als yogadocente een opleiding van drie maanden in een bekend yogacentrum in India\, het Yoga Institute in Mombai. Over haar ervaringen komt ze vertellen. Ze zegt: ‘Ik begon steeds meer overeenkomsten te zien tussen yogische concepten en westerse klooster-\, kerk- en spirituele gebruiken.’\nDe lezing is in de Maranathakerk\, 2e Sweelinckstraat 156\, aanvang 20 uur. Toegang vrij\, collecte bij de uitgang.
URL:https://maranathakerkdenhaag.nl/event/lezing-over-yoga/
CATEGORIES:Lezing
ATTACH;FMTTYPE=image/jpeg:https://maranathakerkdenhaag.nl/wp-content/uploads/2026/03/Cecile-de-Munnik.jpg
END:VEVENT
END:VCALENDAR