BEGIN:VCALENDAR
VERSION:2.0
PRODID:-//Maranathakerk Den Haag - ECPv6.15.13//NONSGML v1.0//EN
CALSCALE:GREGORIAN
METHOD:PUBLISH
X-WR-CALNAME:Maranathakerk Den Haag
X-ORIGINAL-URL:https://maranathakerkdenhaag.nl
X-WR-CALDESC:Evenementen voor Maranathakerk Den Haag
REFRESH-INTERVAL;VALUE=DURATION:PT1H
X-Robots-Tag:noindex
X-PUBLISHED-TTL:PT1H
BEGIN:VTIMEZONE
TZID:Europe/Amsterdam
BEGIN:DAYLIGHT
TZOFFSETFROM:+0100
TZOFFSETTO:+0200
TZNAME:CEST
DTSTART:20240331T010000
END:DAYLIGHT
BEGIN:STANDARD
TZOFFSETFROM:+0200
TZOFFSETTO:+0100
TZNAME:CET
DTSTART:20241027T010000
END:STANDARD
BEGIN:DAYLIGHT
TZOFFSETFROM:+0100
TZOFFSETTO:+0200
TZNAME:CEST
DTSTART:20250330T010000
END:DAYLIGHT
BEGIN:STANDARD
TZOFFSETFROM:+0200
TZOFFSETTO:+0100
TZNAME:CET
DTSTART:20251026T010000
END:STANDARD
BEGIN:DAYLIGHT
TZOFFSETFROM:+0100
TZOFFSETTO:+0200
TZNAME:CEST
DTSTART:20260329T010000
END:DAYLIGHT
BEGIN:STANDARD
TZOFFSETFROM:+0200
TZOFFSETTO:+0100
TZNAME:CET
DTSTART:20261025T010000
END:STANDARD
END:VTIMEZONE
BEGIN:VEVENT
DTSTART;TZID=Europe/Amsterdam:20251026T103000
DTEND;TZID=Europe/Amsterdam:20251026T114500
DTSTAMP:20260422T204248
CREATED:20250811T133209Z
LAST-MODIFIED:20251024T125858Z
UID:14074-1761474600-1761479100@maranathakerkdenhaag.nl
SUMMARY:Cantatedienst 26 oktober ...>
DESCRIPTION:De kerkdienst\nVoorganger is ds. Ad Alblas. Organist is Andries Bogerd. Jörn Boysen (foto) leidt de cantate. Na afloop is er gelegenheid elkaar in de gemeentezaal te ontmoeten bij koffie/thee/limonade. \nDe voorganger\nAd Alblas is emeritus predikant. Hij is verbonden geweest aan de Binnenstadsgemeente in Leiden\, met name in de Hooglandse kerk. \nDe organist\nAndries Bogerd is de kerkmusicus van de Maranathakerk. Informatie: klik hier. \nDe cantate\nVanochtend wordt in de kerkdienst een cantate uitgevoerd\, ‘Herzlich lieb hab’ ich Dich o Herr’ van Dietrich Buxtehude (BuxWV 41). Uitvoerenden zijn solisten en instrumentalisten van het Haags barokensemble Musica Poetica onder leiding van Jörn Boysen.\nEstelle de Koning en Sara Corbey\, sopraan; Neline Adams\, alt; Dierick Aartsen\, tenor; João Luís Paixão\, bas. Clara Sawada en Giorgos Samoilis\, viool; Cecilia Baesso & Roald van Os\, alt-viool; Maria Sánchez\, basviool; Andries Bogerd\, orgel; Jörn Boysen\, klavecimbel en dirigent. Informatie over Musica Poetica: klik hier. \nDe kinderen\nVoor kinderen in de basisschoolleeftijd is er doorgaans een eigen bijeenkomst\, een ‘kindernevendienst’. Voor de allerkleinsten is er oppas. In verband met de herfstvakantie is er vanochtend geen kindernevendienst. \nDe toegang\nKerkdiensten zijn publieke bijeenkomsten. De toegang is vrij. Aanmelding is niet nodig. Na afloop wordt een vrijwillige bijdrage gevraagd voor de kerkmuziek in de Maranathakerk\, zoals de vijf cantatediensten per jaar.\nDe dienst is desgewenst ook te volgen via internet\, direct en achteraf. Er is een geluid- en een beeldverbinding (Kerkomroep).\nVerbinding met Kerkomroep: klik hier.\nOrde van Dienst: klik hier.
URL:https://maranathakerkdenhaag.nl/event/cantatedienst-26-oktober/
CATEGORIES:Overig
ATTACH;FMTTYPE=image/jpeg:https://maranathakerkdenhaag.nl/wp-content/uploads/2017/03/Jörn-Boysen2.jpg
END:VEVENT
BEGIN:VEVENT
DTSTART;TZID=Europe/Amsterdam:20251026T170000
DTEND;TZID=Europe/Amsterdam:20251026T180000
DTSTAMP:20260422T204248
CREATED:20250907T113257Z
LAST-MODIFIED:20250907T113342Z
UID:14154-1761498000-1761501600@maranathakerkdenhaag.nl
SUMMARY:Concert: A Sentimental Journey\, tussen ratio en emotie ...>
DESCRIPTION:Titel van het concert vanmiddag: A Sentimental Journey \nHet Haags ensemble The Spirit of Gambo richt de schijnwerpers op Carl Friedrich Abel (foto)\, een in Duitsland geboren musicus\, vriend van de zonen van Bach. In die tijd ontstaat er een tegenbeweging van de rationaliteit\, waarin gezocht wordt naar de puurheid van directe emoties. Abel speelt op de viola da gamba\, een instrument met een intieme\, verfijnde klank die precies deze emotionele gevoeligheid kan uitdrukken. Vooral in de adagio’s en largo’s wist hij de luisteraars tot tranen toe te ontroeren. Abels samenwerking met Johann Christian Bach in Londen en de aantrekkingskracht die hij heeft op kunstenaars als Gainsborough (schilder) en Laurence Sterne (schrijver van A Sentimental Journey) plaatsen hem midden in dit netwerk van gevoelscultuur. \nNaast muziek van Abel spelen de musici werken Georg Philipp Telemann en Carl Philipp Emanuel Bach\, componisten die\, net als wij nu\, leefden in een veranderende wereld vol tegenstellingen. Hun  muziek beweegt zich tussen elegantie en ontroering\, kraakheldere rationaliteit en persoonlijke gevoelservaring. Zij ademt lichtheid\, maar raakt ook het hart – zoals poëzie kan doen\, zonder woorden. In de kleurenrijkdom van traverso\, klavecimbel\, cello en viola da gamba ontstaan vrolijke en intieme gesprekken. Laat je verrassen en ontroeren door indrukwekkende virtuositeit en expressieve\, ontroerende melodieën met een intiem karakter. \nA Sentimental Journey \nWe richten de schijnwerpers op Carl Friedrich Abel\, een in Duitsland geboren musicus\, vriend van de zonen van Bach. In die tijd ontstaat er een tegenbeweging van de rationaliteit\, waarin gezocht wordt naar de puurheid van directe emoties. Abel speelt op de viola da gamba\, een instrument met een intieme\, verfijnde klank die precies deze emotionele gevoeligheid kan uitdrukken. Vooral in de adagio’s en largo’s wist hij de luisteraars tot tranen toe te ontroeren. Abels samenwerking met Johann Christian Bach in Londen en de aantrekkingskracht die hij heeft op kunstenaars als Gainsborough (schilder) en Laurence Sterne (schrijver van A Sentimental Journey) plaatsen hem midden in dit netwerk van gevoelscultuur. \nNaast muziek van Abel spelen we werken Georg Philipp Telemann en Carl Philipp Emanuel Bach\, componisten die\, net als wij nu\, leefden in een veranderende wereld vol tegenstellingen. Hun  muziek beweegt zich tussen elegantie en ontroering\, kraakheldere rationaliteit en persoonlijke gevoelservaring. Zij ademt lichtheid\, maar raakt ook het hart – zoals poëzie kan doen\, zonder woorden. In de kleurenrijkdom van traverso\, klavecimbel\, cello en viola da gamba ontstaan vrolijke en intieme gesprekken. Laat je verrassen en ontroeren door indrukwekkende virtuositeit en expressieve\, ontroerende melodieën met een intiem karakter. \nUitvoerenden:\nIvanka Neeleman en Freek Borstlap\, viola da gamba;\nMaría Sánchez\, violoncello;\nJörn Boysen\, klavecimbel \nDatum: zondag 26 oktober\, 17-18 uur.\nLocatie: Maranathakerk\, 2e Sweelinckstraat 156.\nToegang vrij\, vrijwillige bijdrage na afloop van het concert.
URL:https://maranathakerkdenhaag.nl/event/concert-a-sentimental-journey/
CATEGORIES:Muziek
ATTACH;FMTTYPE=image/png:https://maranathakerkdenhaag.nl/wp-content/uploads/2025/09/Karl_Friedrich_Abel_oil_on_canvas_Gainsborough-e1757244749748.png
END:VEVENT
END:VCALENDAR