BEGIN:VCALENDAR
VERSION:2.0
PRODID:-//Maranathakerk Den Haag - ECPv6.15.13//NONSGML v1.0//EN
CALSCALE:GREGORIAN
METHOD:PUBLISH
X-WR-CALNAME:Maranathakerk Den Haag
X-ORIGINAL-URL:https://maranathakerkdenhaag.nl
X-WR-CALDESC:Evenementen voor Maranathakerk Den Haag
REFRESH-INTERVAL;VALUE=DURATION:PT1H
X-Robots-Tag:noindex
X-PUBLISHED-TTL:PT1H
BEGIN:VTIMEZONE
TZID:Europe/Amsterdam
BEGIN:DAYLIGHT
TZOFFSETFROM:+0100
TZOFFSETTO:+0200
TZNAME:CEST
DTSTART:20240331T010000
END:DAYLIGHT
BEGIN:STANDARD
TZOFFSETFROM:+0200
TZOFFSETTO:+0100
TZNAME:CET
DTSTART:20241027T010000
END:STANDARD
BEGIN:DAYLIGHT
TZOFFSETFROM:+0100
TZOFFSETTO:+0200
TZNAME:CEST
DTSTART:20250330T010000
END:DAYLIGHT
BEGIN:STANDARD
TZOFFSETFROM:+0200
TZOFFSETTO:+0100
TZNAME:CET
DTSTART:20251026T010000
END:STANDARD
BEGIN:DAYLIGHT
TZOFFSETFROM:+0100
TZOFFSETTO:+0200
TZNAME:CEST
DTSTART:20260329T010000
END:DAYLIGHT
BEGIN:STANDARD
TZOFFSETFROM:+0200
TZOFFSETTO:+0100
TZNAME:CET
DTSTART:20261025T010000
END:STANDARD
END:VTIMEZONE
BEGIN:VEVENT
DTSTART;TZID=Europe/Amsterdam:20251001T100000
DTEND;TZID=Europe/Amsterdam:20251001T120000
DTSTAMP:20260422T204253
CREATED:20250903T080210Z
LAST-MODIFIED:20250903T080210Z
UID:14147-1759312800-1759320000@maranathakerkdenhaag.nl
SUMMARY:Koffieconcert: piano en dwarsfluit ...>
DESCRIPTION:Vanochtend is er in de Maranathakerk een koffieconcert.\nUitvoerenden zijn Loes van Hemert\, piano\, en Angela Duncan\, dwarsfluit. Op het programma staan gevarieerde\, licht-klassieke werken\, afgewisseld met bewerkingen van musical- en filmmuziek. \nDe toegang is  vrij. Koffie (met koekje) is gratis. Er gaat een mandje rond voor een vrijwillige bijdrage. \nDe koffieconcerten zijn op iedere eerste woensdag van de maand\, van 10 tot 12 uur.\nLocatie: Maranathakerk\, 2e Sweelinckstraat 156.
URL:https://maranathakerkdenhaag.nl/event/koffieconcert-piano-en-dwarsfluit/
ATTACH;FMTTYPE=image/jpeg:https://maranathakerkdenhaag.nl/wp-content/uploads/2025/09/Loes-van-Hemert-Angela-Duncan.jpg
END:VEVENT
END:VCALENDAR